BEGIN:VCALENDAR
VERSION:2.0
PRODID:-//Microsoft Corporation//Outlook 16.0 MIMEDIR//FR
CALSCALE:GREGORIAN
METHOD:PUBLISH
X-WR-TIMEZONE:Europe/Monaco
X-MS-OLK-FORCEINSPECTOROPEN:"TRUE"
BEGIN:VTIMEZONE
TZID:Europe/Monaco
BEGIN:STANDARD
DTSTART:20221030T010000
TZOFFSETTO:+0100
TZOFFSETFROM:+0200
RRULE:FREQ=YEARLY;BYMONTH=11;BYDAY=1SU
END:STANDARD
BEGIN:DAYLIGHT
DTSTART:20220327T010000
TZOFFSETTO:+0200
TZOFFSETFROM:+0100
RRULE:FREQ=YEARLY;BYMONTH=3;BYDAY=2SU
END:DAYLIGHT
END:VTIMEZONE
BEGIN:VEVENT
UID:1379-f6de809d735fcf942e4b286265be6da7-principocket.com\n
DTSTART:20220811T200000
DTEND:20220811T200000
TRANSP:TRANSPARENT
IMAGE;VALUE=URI;DISPLAY=;FMTTYPE=image/png:https://app.monacoplatform.
 com/uploads/hp/hpqhGj_9e6.jpg
STATUS:CONFIRMED
SUMMARY:Concert - "La Nuit de l'Orient"
DESCRIPTION:Jeudi 11 août 2022\, à 20h\, Salle des Etoiles\n\nMonte-
 Carlo Summer Festival 2022 : La Nuit de l'Orient\n\n https://www.princ
 ipocket.com/fr/event/f6de809d735fcf942e4b286265be6da7/concert-la-nuit-
 de-l-orient
LOCATION:26\, avenue Princesse Grace
URL:https://www.principocket.com/event/f6de809d735fcf942e4b286265be6da
 7/1379
DTSTAMP:20260422T190144Z
CREATED:20220726T074101Z
LAST-MODIFIED:20220726T074101Z
END:VEVENT
END:VCALENDAR
