BEGIN:VCALENDAR
VERSION:2.0
PRODID:-//Microsoft Corporation//Outlook 16.0 MIMEDIR//FR
CALSCALE:GREGORIAN
METHOD:PUBLISH
X-WR-TIMEZONE:Europe/Monaco
X-MS-OLK-FORCEINSPECTOROPEN:"TRUE"
BEGIN:VTIMEZONE
TZID:Europe/Monaco
BEGIN:STANDARD
DTSTART:20211031T010000
TZOFFSETTO:+0100
TZOFFSETFROM:+0200
RRULE:FREQ=YEARLY;BYMONTH=11;BYDAY=1SU
END:STANDARD
BEGIN:DAYLIGHT
DTSTART:20210328T010000
TZOFFSETTO:+0200
TZOFFSETFROM:+0100
RRULE:FREQ=YEARLY;BYMONTH=3;BYDAY=2SU
END:DAYLIGHT
END:VTIMEZONE
BEGIN:VEVENT
UID:1204-38c38bc4291001eb80ba819067db43ae-principocket.com\n
DTSTART:20211130T193000
DTEND:20211130T193000
TRANSP:TRANSPARENT
IMAGE;VALUE=URI;DISPLAY=;FMTTYPE=image/png:https://app.monacoplatform.
 com/uploads/F9/F9oc_Q6VUL.jpg
STATUS:CONFIRMED
SUMMARY:Hommage à Joséphine Baker
DESCRIPTION:Mardi 30 novembre 2021\, à 19h30\, Bar Américain\n\nHomm
 age à Joséphine Baker au Bar Américain\, organisé par Monte-Carlo 
 Société des Bains de Mer. Animé par Axel Jaffray\, journaliste spé
 cialisé dans le domaine de la musique et producteur\, accompagné des
  airs les plus connus de la chanteuse\, joués par un groupe de jazz. 
 Des photographies d’archives inédites seront diffusées toute la so
 irée dans la salle.\n\n https://www.principocket.com/fr/event/38c38bc
 4291001eb80ba819067db43ae/hommage-a-josephine-baker
LOCATION:Hôtel de Paris Monte-Carlo Place du Casino
URL:https://www.principocket.com/event/38c38bc4291001eb80ba819067db43a
 e/1204
DTSTAMP:20260420T140437Z
CREATED:20211122T163222Z
LAST-MODIFIED:20211122T163222Z
END:VEVENT
END:VCALENDAR
