BEGIN:VCALENDAR
VERSION:2.0
PRODID:-//Microsoft Corporation//Outlook 16.0 MIMEDIR//FR
CALSCALE:GREGORIAN
METHOD:PUBLISH
X-WR-TIMEZONE:Europe/Monaco
X-MS-OLK-FORCEINSPECTOROPEN:"TRUE"
BEGIN:VTIMEZONE
TZID:Europe/Monaco
BEGIN:STANDARD
DTSTART:20221030T010000
TZOFFSETTO:+0100
TZOFFSETFROM:+0200
RRULE:FREQ=YEARLY;BYMONTH=11;BYDAY=1SU
END:STANDARD
BEGIN:DAYLIGHT
DTSTART:20220327T010000
TZOFFSETTO:+0200
TZOFFSETFROM:+0100
RRULE:FREQ=YEARLY;BYMONTH=3;BYDAY=2SU
END:DAYLIGHT
END:VTIMEZONE
BEGIN:VEVENT
UID:1184-0824a991bd80a90bf983b3938c8b8548-principocket.com\n
DTSTART:20220127T000000
DTEND:20220131T235900
TRANSP:TRANSPARENT
IMAGE;VALUE=URI;DISPLAY=;FMTTYPE=image/png:https://app.monacoplatform.
 com/uploads/Yq/YqDUOqRX-z.jpg
STATUS:CONFIRMED
SUMMARY:Vive Le Sport... Et Ses Petits Secrets !
DESCRIPTION:Jeudi 27\, Vendredi 28\, Samedi 29 à 20h30 et Dimanche 30
  janvier 2022 à 16h30\, Théâtre des Muses\n\n"Vive Le Sport... Et S
 es Petits Secrets !" de et avec Gérard Holtz\n\n https://www.principo
 cket.com/fr/event/0824a991bd80a90bf983b3938c8b8548/vive-le-sport-et-se
 s-petits-secrets
LOCATION:45\, boulevard du Jardin Exotique
URL:https://www.principocket.com/event/0824a991bd80a90bf983b3938c8b854
 8/1184
DTSTAMP:20260420T123203Z
CREATED:20220124T083114Z
LAST-MODIFIED:20220124T083114Z
X-MICROSOFT-CDO-ALLDAYEVENT:TRUE
END:VEVENT
END:VCALENDAR
