BEGIN:VCALENDAR
VERSION:2.0
PRODID:-//Microsoft Corporation//Outlook 16.0 MIMEDIR//FR
CALSCALE:GREGORIAN
METHOD:PUBLISH
X-WR-TIMEZONE:Europe/Monaco
X-MS-OLK-FORCEINSPECTOROPEN:"TRUE"
BEGIN:VTIMEZONE
TZID:Europe/Monaco
BEGIN:STANDARD
DTSTART:20221030T010000
TZOFFSETTO:+0100
TZOFFSETFROM:+0200
RRULE:FREQ=YEARLY;BYMONTH=11;BYDAY=1SU
END:STANDARD
BEGIN:DAYLIGHT
DTSTART:20220327T010000
TZOFFSETTO:+0200
TZOFFSETFROM:+0100
RRULE:FREQ=YEARLY;BYMONTH=3;BYDAY=2SU
END:DAYLIGHT
END:VTIMEZONE
BEGIN:VEVENT
UID:1182-6f3172f4171bc45e84a4a2da12408d11-principocket.com\n
DTSTART:20220113T000000
DTEND:20220117T235900
TRANSP:TRANSPARENT
IMAGE;VALUE=URI;DISPLAY=;FMTTYPE=image/png:https://app.monacoplatform.
 com/uploads/Bd/Bd6Elu8XFq.jpg
STATUS:CONFIRMED
SUMMARY:A Ces Idiots Qui Osent Rêver
DESCRIPTION:Jeudi 6\, Vendredi 7 et Samedi 8 à 20h30\, Dimanche 9 jan
 vier 2022 à 16h30\, Théâtre des Muses\n\n"A Ces Idiots Qui Osent R
 êver" de et avec Céline Devaland et avec Marc Pistolesi\n\n https://
 www.principocket.com/fr/event/6f3172f4171bc45e84a4a2da12408d11/a-ces-i
 diots-qui-osent-rever
LOCATION:45\, boulevard du Jardin Exotique
URL:https://www.principocket.com/event/6f3172f4171bc45e84a4a2da12408d1
 1/1182
DTSTAMP:20260420T140134Z
CREATED:20220106T080346Z
LAST-MODIFIED:20220106T080346Z
X-MICROSOFT-CDO-ALLDAYEVENT:TRUE
END:VEVENT
END:VCALENDAR
