BEGIN:VCALENDAR
VERSION:2.0
PRODID:-//Microsoft Corporation//Outlook 16.0 MIMEDIR//FR
CALSCALE:GREGORIAN
METHOD:PUBLISH
X-WR-TIMEZONE:Europe/Monaco
X-MS-OLK-FORCEINSPECTOROPEN:"TRUE"
BEGIN:VTIMEZONE
TZID:Europe/Monaco
BEGIN:STANDARD
DTSTART:20211031T010000
TZOFFSETTO:+0100
TZOFFSETFROM:+0200
RRULE:FREQ=YEARLY;BYMONTH=11;BYDAY=1SU
END:STANDARD
BEGIN:DAYLIGHT
DTSTART:20210328T010000
TZOFFSETTO:+0200
TZOFFSETFROM:+0100
RRULE:FREQ=YEARLY;BYMONTH=3;BYDAY=2SU
END:DAYLIGHT
END:VTIMEZONE
BEGIN:VEVENT
UID:1175-af589dc0a28000320c88b4cd8fa41869-principocket.com\n
DTSTART:20211216T000000
DTEND:20211220T235900
TRANSP:TRANSPARENT
IMAGE;VALUE=URI;DISPLAY=;FMTTYPE=image/png:https://app.monacoplatform.
 com/uploads/kJ/kJAvOKLc0N.jpg
STATUS:CONFIRMED
SUMMARY:Roméo et Juliette
DESCRIPTION:Jeudi 16\, Vendredi 17 et Samedi 18 à 20h30\, Dimanche 19
  décembre 2021 à 16h30\, Théâtre des Muses\n\n"Roméo et Juliette"
  de William Shakespeare avec Xavier Berlioz\, Jean-Baptiste des Boscs 
 (violoncelle)\, Claire Faurot (accordéon)\, Manon Montel\, Léo Paget
  et Thomas Willaime\n\n https://www.principocket.com/fr/event/af589dc0
 a28000320c88b4cd8fa41869/romeo-et-juliette
LOCATION:45\, boulevard du Jardin Exotique
URL:https://www.principocket.com/event/af589dc0a28000320c88b4cd8fa4186
 9/1175
DTSTAMP:20260422T234443Z
CREATED:20211210T101854Z
LAST-MODIFIED:20211210T101854Z
X-MICROSOFT-CDO-ALLDAYEVENT:TRUE
END:VEVENT
END:VCALENDAR
