BEGIN:VCALENDAR
VERSION:2.0
PRODID:-//Microsoft Corporation//Outlook 16.0 MIMEDIR//FR
CALSCALE:GREGORIAN
METHOD:PUBLISH
X-WR-TIMEZONE:Europe/Monaco
X-MS-OLK-FORCEINSPECTOROPEN:"TRUE"
BEGIN:VTIMEZONE
TZID:Europe/Monaco
BEGIN:STANDARD
DTSTART:20221030T010000
TZOFFSETTO:+0100
TZOFFSETFROM:+0200
RRULE:FREQ=YEARLY;BYMONTH=11;BYDAY=1SU
END:STANDARD
BEGIN:DAYLIGHT
DTSTART:20220327T010000
TZOFFSETTO:+0200
TZOFFSETFROM:+0100
RRULE:FREQ=YEARLY;BYMONTH=3;BYDAY=2SU
END:DAYLIGHT
END:VTIMEZONE
BEGIN:VEVENT
UID:1153-00aa5366626d5cd8e45026020cc1bb7a-principocket.com\n
DTSTART:20220325T190000
DTEND:20220325T190000
TRANSP:TRANSPARENT
IMAGE;VALUE=URI;DISPLAY=;FMTTYPE=image/png:https://app.monacoplatform.
 com/uploads/fW/fWn10Kd815.jpg
STATUS:CONFIRMED
SUMMARY:Turkish Airlines EuroLeague
DESCRIPTION:Vendredi 25 mars 2022\, à 19h\, Salle Omnisports Gaston M
 édecin - Stade Louis II\n\nAS Monaco Roca Team - Baskonia Vitoria-Gas
 teiz\n\n https://www.principocket.com/fr/event/00aa5366626d5cd8e450260
 20cc1bb7a/turkish-airlines-euroleague
LOCATION:Stade Louis II
URL:https://www.principocket.com/event/00aa5366626d5cd8e45026020cc1bb7
 a/1153
DTSTAMP:20260422T160833Z
CREATED:20220317T163810Z
LAST-MODIFIED:20220317T163810Z
END:VEVENT
END:VCALENDAR
