BEGIN:VCALENDAR
VERSION:2.0
PRODID:-//Microsoft Corporation//Outlook 16.0 MIMEDIR//FR
CALSCALE:GREGORIAN
METHOD:PUBLISH
X-WR-TIMEZONE:Europe/Monaco
X-MS-OLK-FORCEINSPECTOROPEN:"TRUE"
BEGIN:VTIMEZONE
TZID:Europe/Monaco
BEGIN:STANDARD
DTSTART:20221030T010000
TZOFFSETTO:+0100
TZOFFSETFROM:+0200
RRULE:FREQ=YEARLY;BYMONTH=11;BYDAY=1SU
END:STANDARD
BEGIN:DAYLIGHT
DTSTART:20220327T010000
TZOFFSETTO:+0200
TZOFFSETFROM:+0100
RRULE:FREQ=YEARLY;BYMONTH=3;BYDAY=2SU
END:DAYLIGHT
END:VTIMEZONE
BEGIN:VEVENT
UID:1152-9ee179a17e12e53019ac03f791828ff5-principocket.com\n
DTSTART:20220325T000000
DTEND:20220330T235900
TRANSP:TRANSPARENT
IMAGE;VALUE=URI;DISPLAY=;FMTTYPE=image/png:https://app.monacoplatform.
 com/uploads/oV/oV2JBUx07K.jpg
STATUS:CONFIRMED
SUMMARY:Wozzeck
DESCRIPTION:Vendredi 25 mars (gala)\, mardi 29 mars\, à 20h et dimanc
 he 27 mars\, à 15h 2022\, Opéra de Monte-Carlo - Salle Garnier\n\n"W
 ozzeck" de Alban Berg avec Trevor Scheunemann\, Daniel Brenna\, Michae
 l Porter\, Mikeldi Atxalandabaso\, Albert Dohmen\, Mathieu Toulouse\, 
 Fabrice Alibert\, Andreas Conrad\, Annemarie Kremer\, Lucy Schaufer\, 
 Dimitri Dore\, le Chœur de l’Opéra de Monte-Carlo\, le Chœur d’
 enfants de l’Académie de Musique Rainier III et l'Orchestre philhar
 monique de Monte-Carlo\, sous la direction de Kazuki Yamada\, organis
 é par l'Opéra de Monte-Carlo\n\n https://www.principocket.com/fr/eve
 nt/9ee179a17e12e53019ac03f791828ff5/wozzeck
LOCATION:Place du Casino
URL:https://www.principocket.com/event/9ee179a17e12e53019ac03f791828ff
 5/1152
DTSTAMP:20260422T174958Z
CREATED:20220317T163810Z
LAST-MODIFIED:20220317T163810Z
X-MICROSOFT-CDO-ALLDAYEVENT:TRUE
END:VEVENT
END:VCALENDAR
