BEGIN:VCALENDAR
VERSION:2.0
PRODID:-//Microsoft Corporation//Outlook 16.0 MIMEDIR//FR
CALSCALE:GREGORIAN
METHOD:PUBLISH
X-WR-TIMEZONE:Europe/Monaco
X-MS-OLK-FORCEINSPECTOROPEN:"TRUE"
BEGIN:VTIMEZONE
TZID:Europe/Monaco
BEGIN:STANDARD
DTSTART:20221030T010000
TZOFFSETTO:+0100
TZOFFSETFROM:+0200
RRULE:FREQ=YEARLY;BYMONTH=11;BYDAY=1SU
END:STANDARD
BEGIN:DAYLIGHT
DTSTART:20220327T010000
TZOFFSETTO:+0200
TZOFFSETFROM:+0100
RRULE:FREQ=YEARLY;BYMONTH=3;BYDAY=2SU
END:DAYLIGHT
END:VTIMEZONE
BEGIN:VEVENT
UID:1138-91bb88e270102e185e9df520b9e41e43-principocket.com\n
DTSTART:20220131T000000
DTEND:20220203T235900
TRANSP:TRANSPARENT
IMAGE;VALUE=URI;DISPLAY=;FMTTYPE=image/png:https://app.monacoplatform.
 com/uploads/a8/a8hr1US7Vv.jpg
STATUS:CONFIRMED
SUMMARY:5e Rallye Monte-Carlo Classique
DESCRIPTION:Du lundi 31 janvier au mercredi 2 février 2022\, Principa
 uté de Monaco\n\n5e Rallye Monte-Carlo Classique\, réservé aux voit
 ures d’intérêt historique\, conformes à la législation routière
 \, construites de 1911 à 1965\n\n https://www.principocket.com/fr/eve
 nt/91bb88e270102e185e9df520b9e41e43/5e-rallye-monte-carlo-classique
LOCATION:Monaco
URL:https://www.principocket.com/event/91bb88e270102e185e9df520b9e41e4
 3/1138
DTSTAMP:20260423T164516Z
CREATED:20220124T083114Z
LAST-MODIFIED:20220124T083114Z
X-MICROSOFT-CDO-ALLDAYEVENT:TRUE
END:VEVENT
END:VCALENDAR
