BEGIN:VCALENDAR
VERSION:2.0
PRODID:-//Microsoft Corporation//Outlook 16.0 MIMEDIR//FR
CALSCALE:GREGORIAN
METHOD:PUBLISH
X-WR-TIMEZONE:Europe/Monaco
X-MS-OLK-FORCEINSPECTOROPEN:"TRUE"
BEGIN:VTIMEZONE
TZID:Europe/Monaco
BEGIN:STANDARD
DTSTART:20221030T010000
TZOFFSETTO:+0100
TZOFFSETFROM:+0200
RRULE:FREQ=YEARLY;BYMONTH=11;BYDAY=1SU
END:STANDARD
BEGIN:DAYLIGHT
DTSTART:20220327T010000
TZOFFSETTO:+0200
TZOFFSETFROM:+0100
RRULE:FREQ=YEARLY;BYMONTH=3;BYDAY=2SU
END:DAYLIGHT
END:VTIMEZONE
BEGIN:VEVENT
UID:1137-43f86addff9d089f3ea43e725d803d04-principocket.com\n
DTSTART:20220127T000000
DTEND:20220203T235900
TRANSP:TRANSPARENT
IMAGE;VALUE=URI;DISPLAY=;FMTTYPE=image/png:https://app.monacoplatform.
 com/uploads/DI/DIHli5cpZ4.jpg
STATUS:CONFIRMED
SUMMARY:24e Rallye Monte-Carlo Historique
DESCRIPTION:Du jeudi 27 janvier au mercredi 2 février 2022\, Principa
 uté de Monaco\n\n24e Rallye Monte-Carlo Historique réservé aux voit
 ures dont un modèle similaire a participé à un Rallye Monte-Carlo j
 usqu’à la 51e édition de janvier 1983\n\n https://www.principocket
 .com/fr/event/43f86addff9d089f3ea43e725d803d04/24e-rallye-monte-carlo-
 historique
LOCATION:Monaco
URL:https://www.principocket.com/event/43f86addff9d089f3ea43e725d803d0
 4/1137
DTSTAMP:20260423T150631Z
CREATED:20220124T083114Z
LAST-MODIFIED:20220124T083114Z
X-MICROSOFT-CDO-ALLDAYEVENT:TRUE
END:VEVENT
END:VCALENDAR
