BEGIN:VCALENDAR
VERSION:2.0
PRODID:-//Microsoft Corporation//Outlook 16.0 MIMEDIR//FR
CALSCALE:GREGORIAN
METHOD:PUBLISH
X-WR-TIMEZONE:Europe/Monaco
X-MS-OLK-FORCEINSPECTOROPEN:"TRUE"
BEGIN:VTIMEZONE
TZID:Europe/Monaco
BEGIN:STANDARD
DTSTART:20221030T010000
TZOFFSETTO:+0100
TZOFFSETFROM:+0200
RRULE:FREQ=YEARLY;BYMONTH=11;BYDAY=1SU
END:STANDARD
BEGIN:DAYLIGHT
DTSTART:20220327T010000
TZOFFSETTO:+0200
TZOFFSETFROM:+0100
RRULE:FREQ=YEARLY;BYMONTH=3;BYDAY=2SU
END:DAYLIGHT
END:VTIMEZONE
BEGIN:VEVENT
UID:1136-72a4d1ff5e49b3637a3b2b10397722e7-principocket.com\n
DTSTART:20220125T200000
DTEND:20220125T200000
TRANSP:TRANSPARENT
IMAGE;VALUE=URI;DISPLAY=;FMTTYPE=image/png:https://app.monacoplatform.
 com/uploads/7j/7joVBs4S0I.jpg
STATUS:CONFIRMED
SUMMARY:Pour La Suite Du Monde
DESCRIPTION:Mardi 25 janvier 2022\, à 20h\, Théâtre des Variétés\
 n\nTout l'Art du Cinéma - Les Mardis du Cinéma - projection du film 
 "Pour La Suite Du Monde" de Pierre Perrault et Michel Brault (1962) or
 ganisée par l'Institut Audiovisuel de Monaco\n\n https://www.principo
 cket.com/fr/event/72a4d1ff5e49b3637a3b2b10397722e7/pour-la-suite-du-mo
 nde
LOCATION:1\, boulevard Albert Ier
URL:https://www.principocket.com/event/72a4d1ff5e49b3637a3b2b10397722e
 7/1136
DTSTAMP:20260423T133113Z
CREATED:20220124T083114Z
LAST-MODIFIED:20220124T083114Z
END:VEVENT
END:VCALENDAR
