BEGIN:VCALENDAR
VERSION:2.0
PRODID:-//Microsoft Corporation//Outlook 16.0 MIMEDIR//FR
CALSCALE:GREGORIAN
METHOD:PUBLISH
X-WR-TIMEZONE:Europe/Monaco
X-MS-OLK-FORCEINSPECTOROPEN:"TRUE"
BEGIN:VTIMEZONE
TZID:Europe/Monaco
BEGIN:STANDARD
DTSTART:20221030T010000
TZOFFSETTO:+0100
TZOFFSETFROM:+0200
RRULE:FREQ=YEARLY;BYMONTH=11;BYDAY=1SU
END:STANDARD
BEGIN:DAYLIGHT
DTSTART:20220327T010000
TZOFFSETTO:+0200
TZOFFSETFROM:+0100
RRULE:FREQ=YEARLY;BYMONTH=3;BYDAY=2SU
END:DAYLIGHT
END:VTIMEZONE
BEGIN:VEVENT
UID:1135-fd28eaed81e8dbb1e4b38bed32f90e76-principocket.com\n
DTSTART:20220118T200000
DTEND:20220118T200000
TRANSP:TRANSPARENT
IMAGE;VALUE=URI;DISPLAY=;FMTTYPE=image/png:https://app.monacoplatform.
 com/uploads/1-/1-JFK6m7OP.jpg
STATUS:CONFIRMED
SUMMARY:Partie De Campagne
DESCRIPTION:Mardi 18 janvier 2022\, à 20h\, Théâtre des Variétés\
 n\nTout l'Art du Cinéma - De l'Ecrit à l'Ecran - projection du film 
 "Partie De Campagne" de Jean Renoir (1946) organisée par l'Institut A
 udiovisuel de Monaco en partenariat avec Alliance Française\n\n https
 ://www.principocket.com/fr/event/fd28eaed81e8dbb1e4b38bed32f90e76/part
 ie-de-campagne
LOCATION:1\, boulevard Albert Ier
URL:https://www.principocket.com/event/fd28eaed81e8dbb1e4b38bed32f90e7
 6/1135
DTSTAMP:20260423T114058Z
CREATED:20220117T085732Z
LAST-MODIFIED:20220117T085732Z
END:VEVENT
END:VCALENDAR
