BEGIN:VCALENDAR
VERSION:2.0
PRODID:-//Microsoft Corporation//Outlook 16.0 MIMEDIR//FR
CALSCALE:GREGORIAN
METHOD:PUBLISH
X-WR-TIMEZONE:Europe/Monaco
X-MS-OLK-FORCEINSPECTOROPEN:"TRUE"
BEGIN:VTIMEZONE
TZID:Europe/Monaco
BEGIN:STANDARD
DTSTART:20211031T010000
TZOFFSETTO:+0100
TZOFFSETFROM:+0200
RRULE:FREQ=YEARLY;BYMONTH=11;BYDAY=1SU
END:STANDARD
BEGIN:DAYLIGHT
DTSTART:20210328T010000
TZOFFSETTO:+0200
TZOFFSETFROM:+0100
RRULE:FREQ=YEARLY;BYMONTH=3;BYDAY=2SU
END:DAYLIGHT
END:VTIMEZONE
BEGIN:VEVENT
UID:1129-684102eecc147e4009d8b5b0611d64e5-principocket.com\n
DTSTART:20211207T200000
DTEND:20211207T200000
TRANSP:TRANSPARENT
IMAGE;VALUE=URI;DISPLAY=;FMTTYPE=image/png:https://app.monacoplatform.
 com/uploads/Pl/Plupkj4SNa.jpg
STATUS:CONFIRMED
SUMMARY:Les Adieux à Matiora
DESCRIPTION:Mardi 7 décembre 2021\, à 20h\, Théâtre des Variétés
 \n\nTout l'Art du Cinéma - Les Mardis du Cinéma - projection du film
  "Les Adieux à Matiora" de Elem Klimov (1981) organisée par l'Instit
 ut Audiovisuel de Monaco\n\n https://www.principocket.com/fr/event/684
 102eecc147e4009d8b5b0611d64e5/les-adieux-a-matiora
LOCATION:1\, boulevard Albert Ier
URL:https://www.principocket.com/event/684102eecc147e4009d8b5b0611d64e
 5/1129
DTSTAMP:20260423T022413Z
CREATED:20211202T104536Z
LAST-MODIFIED:20211202T104536Z
END:VEVENT
END:VCALENDAR
