BEGIN:VCALENDAR
VERSION:2.0
PRODID:-//Microsoft Corporation//Outlook 16.0 MIMEDIR//FR
CALSCALE:GREGORIAN
METHOD:PUBLISH
X-WR-TIMEZONE:Europe/Monaco
X-MS-OLK-FORCEINSPECTOROPEN:"TRUE"
BEGIN:VTIMEZONE
TZID:Europe/Monaco
BEGIN:STANDARD
DTSTART:20221030T010000
TZOFFSETTO:+0100
TZOFFSETFROM:+0200
RRULE:FREQ=YEARLY;BYMONTH=11;BYDAY=1SU
END:STANDARD
BEGIN:DAYLIGHT
DTSTART:20220327T010000
TZOFFSETTO:+0200
TZOFFSETFROM:+0100
RRULE:FREQ=YEARLY;BYMONTH=3;BYDAY=2SU
END:DAYLIGHT
END:VTIMEZONE
BEGIN:VEVENT
UID:1122-568ccfca74e842728a1b51d65377eb0d-principocket.com\n
DTSTART:20211125T000000
DTEND:20220516T235900
TRANSP:TRANSPARENT
IMAGE;VALUE=URI;DISPLAY=;FMTTYPE=image/png:https://app.monacoplatform.
 com/uploads/mn/mngDYg3fon.jpg
STATUS:CONFIRMED
SUMMARY:Exposition
DESCRIPTION:Du jeudi 25 novembre 2021 au dimanche 15 mai 2022\, Nouvea
 u Musée National de Monaco - Villa Paloma\n\n« Tremblements - Acquis
 itions récentes du Nouveau Musée National de Monaco » - une nouvel
 le exposition à la Villa Paloma\n\n https://www.principocket.com/fr/e
 vent/568ccfca74e842728a1b51d65377eb0d/exposition
LOCATION:56\, boulevard du Jardin Exotique
URL:https://www.principocket.com/event/568ccfca74e842728a1b51d65377eb0
 d/1122
DTSTAMP:20260422T133945Z
CREATED:20220419T092306Z
LAST-MODIFIED:20220419T092306Z
X-MICROSOFT-CDO-ALLDAYEVENT:TRUE
END:VEVENT
END:VCALENDAR
