BEGIN:VCALENDAR
VERSION:2.0
PRODID:-//Microsoft Corporation//Outlook 16.0 MIMEDIR//FR
CALSCALE:GREGORIAN
METHOD:PUBLISH
X-WR-TIMEZONE:Europe/Monaco
X-MS-OLK-FORCEINSPECTOROPEN:"TRUE"
BEGIN:VTIMEZONE
TZID:Europe/Monaco
BEGIN:STANDARD
DTSTART:20211031T010000
TZOFFSETTO:+0100
TZOFFSETFROM:+0200
RRULE:FREQ=YEARLY;BYMONTH=11;BYDAY=1SU
END:STANDARD
BEGIN:DAYLIGHT
DTSTART:20210328T010000
TZOFFSETTO:+0200
TZOFFSETFROM:+0100
RRULE:FREQ=YEARLY;BYMONTH=3;BYDAY=2SU
END:DAYLIGHT
END:VTIMEZONE
BEGIN:VEVENT
UID:1119-7e245ef2ac5dce9d11ecc54cbfb40fa4-principocket.com\n
DTSTART:20211123T200000
DTEND:20211123T200000
TRANSP:TRANSPARENT
IMAGE;VALUE=URI;DISPLAY=;FMTTYPE=image/png:https://app.monacoplatform.
 com/uploads/Rs/Rs-0V6NHVd.jpg
STATUS:CONFIRMED
SUMMARY:L'Homme Que J'ai Tué
DESCRIPTION:Mardi 23 novembre 2021\, à 20h\, Théâtre des Variétés
 \n\nTout l'Art du Cinéma - Les Mardis du Cinéma - projection du film
  "L'Homme que j'ai tué" de Ernst Lubitsch (1932) organisée par l'Ins
 titut Audiovisuel de Monaco\n\n https://www.principocket.com/fr/event/
 7e245ef2ac5dce9d11ecc54cbfb40fa4/l-homme-que-j-ai-tue
LOCATION:1\, boulevard Albert Ier
URL:https://www.principocket.com/event/7e245ef2ac5dce9d11ecc54cbfb40fa
 4/1119
DTSTAMP:20260424T092218Z
CREATED:20211122T163222Z
LAST-MODIFIED:20211122T163222Z
END:VEVENT
END:VCALENDAR
