BEGIN:VCALENDAR
VERSION:2.0
PRODID:-//Microsoft Corporation//Outlook 16.0 MIMEDIR//FR
CALSCALE:GREGORIAN
METHOD:PUBLISH
X-WR-TIMEZONE:Europe/Monaco
X-MS-OLK-FORCEINSPECTOROPEN:"TRUE"
BEGIN:VTIMEZONE
TZID:Europe/Monaco
BEGIN:STANDARD
DTSTART:20211031T010000
TZOFFSETTO:+0100
TZOFFSETFROM:+0200
RRULE:FREQ=YEARLY;BYMONTH=11;BYDAY=1SU
END:STANDARD
BEGIN:DAYLIGHT
DTSTART:20210328T010000
TZOFFSETTO:+0200
TZOFFSETFROM:+0100
RRULE:FREQ=YEARLY;BYMONTH=3;BYDAY=2SU
END:DAYLIGHT
END:VTIMEZONE
BEGIN:VEVENT
UID:1118-6179915cf544be6eb3e6684e41351789-principocket.com\n
DTSTART:20211117T183000
DTEND:20211117T183000
TRANSP:TRANSPARENT
IMAGE;VALUE=URI;DISPLAY=;FMTTYPE=image/png:https://app.monacoplatform.
 com/uploads/6G/6GJhTLodyx.jpg
STATUS:CONFIRMED
SUMMARY:Vous N'Aurez Pas Ma Haine
DESCRIPTION:Mercredi 17 novembre 2021\, à 18h30\, Théâtre des Vari
 étés\n\n"Vous N'Aurez Pas Ma Haine"\, de Antoine Leiris avec Yohann 
 Chopin\, organisé par le Diocèse de Monaco\n\n https://www.principoc
 ket.com/fr/event/6179915cf544be6eb3e6684e41351789/vous-n-aurez-pas-ma-
 haine
LOCATION:1\, boulevard Albert Ier
URL:https://www.principocket.com/event/6179915cf544be6eb3e6684e4135178
 9/1118
DTSTAMP:20260422T090104Z
CREATED:20211025T094757Z
LAST-MODIFIED:20211025T094757Z
END:VEVENT
END:VCALENDAR
