BEGIN:VCALENDAR
VERSION:2.0
PRODID:-//Microsoft Corporation//Outlook 16.0 MIMEDIR//FR
CALSCALE:GREGORIAN
METHOD:PUBLISH
X-WR-TIMEZONE:Europe/Monaco
X-MS-OLK-FORCEINSPECTOROPEN:"TRUE"
BEGIN:VTIMEZONE
TZID:Europe/Monaco
BEGIN:STANDARD
DTSTART:20211031T010000
TZOFFSETTO:+0100
TZOFFSETFROM:+0200
RRULE:FREQ=YEARLY;BYMONTH=11;BYDAY=1SU
END:STANDARD
BEGIN:DAYLIGHT
DTSTART:20210328T010000
TZOFFSETTO:+0200
TZOFFSETFROM:+0100
RRULE:FREQ=YEARLY;BYMONTH=3;BYDAY=2SU
END:DAYLIGHT
END:VTIMEZONE
BEGIN:VEVENT
UID:1070-50e96719de8e6e68e57d4dc534c25cc4-principocket.com\n
DTSTART:20211216T000000
DTEND:20211218T235900
TRANSP:TRANSPARENT
IMAGE;VALUE=URI;DISPLAY=;FMTTYPE=image/png:https://app.monacoplatform.
 com/uploads/JI/JI243p4Kcr.jpg
STATUS:CONFIRMED
SUMMARY:Monaco Dance Forum
DESCRIPTION:Jeudi 16 décembre\, à 14h et vendredi 17 décembre 2021\
 , à 19h30 Grimaldi Forum Monaco - Salle Prince Pierre\n\nMonaco Dance
  Forum : "Ce que le jour doit à la nuit"\, représentations chorégra
 phiques de Hervé Koubi par la Compagnie des Ballets de Monte-Carlo\n
 \n https://www.principocket.com/fr/event/50e96719de8e6e68e57d4dc534c25
 cc4/monaco-dance-forum
LOCATION:10\, avenue Princesse Grace
URL:https://www.principocket.com/event/50e96719de8e6e68e57d4dc534c25cc
 4/1070
DTSTAMP:20260420T120500Z
CREATED:20211210T101854Z
LAST-MODIFIED:20211210T101854Z
X-MICROSOFT-CDO-ALLDAYEVENT:TRUE
END:VEVENT
END:VCALENDAR
