BEGIN:VCALENDAR
VERSION:2.0
PRODID:-//Microsoft Corporation//Outlook 16.0 MIMEDIR//FR
CALSCALE:GREGORIAN
METHOD:PUBLISH
X-WR-TIMEZONE:Europe/Monaco
X-MS-OLK-FORCEINSPECTOROPEN:"TRUE"
BEGIN:VTIMEZONE
TZID:Europe/Monaco
BEGIN:STANDARD
DTSTART:20221030T010000
TZOFFSETTO:+0100
TZOFFSETFROM:+0200
RRULE:FREQ=YEARLY;BYMONTH=11;BYDAY=1SU
END:STANDARD
BEGIN:DAYLIGHT
DTSTART:20220327T010000
TZOFFSETTO:+0200
TZOFFSETFROM:+0100
RRULE:FREQ=YEARLY;BYMONTH=3;BYDAY=2SU
END:DAYLIGHT
END:VTIMEZONE
BEGIN:VEVENT
UID:1033-d6e70676b40c9faf8bd1f9ec7b0e938b-principocket.com\n
DTSTART:20220204T200000
DTEND:20220204T200000
TRANSP:TRANSPARENT
IMAGE;VALUE=URI;DISPLAY=;FMTTYPE=image/png:https://app.monacoplatform.
 com/uploads/Lh/LhImFPSqvp.jpg
STATUS:CONFIRMED
SUMMARY:Concert de musique de chambre
DESCRIPTION:Vendredi 4 février 2022\, à 20h\, Auditorium Rainier III
 \n\nSérie Grande Saison : concert de musique de chambre avec David Bi
 smuth\, piano\, Liza Kerob\, violon\, Federico Andres Hood\, alto et T
 hierry Amadi\, violoncelle. Au programme : Ludwig van Beethoven et  Wo
 lfgang Amadeus Mozart\n\n https://www.principocket.com/fr/event/d6e706
 76b40c9faf8bd1f9ec7b0e938b/concert-de-musique-de-chambre
LOCATION:Boulevard Louis II
URL:https://www.principocket.com/event/d6e70676b40c9faf8bd1f9ec7b0e938
 b/1033
DTSTAMP:20260421T061059Z
CREATED:20220124T083114Z
LAST-MODIFIED:20220124T083114Z
END:VEVENT
END:VCALENDAR
