BEGIN:VCALENDAR
VERSION:2.0
PRODID:-//Microsoft Corporation//Outlook 16.0 MIMEDIR//FR
CALSCALE:GREGORIAN
METHOD:PUBLISH
X-WR-TIMEZONE:Europe/Monaco
X-MS-OLK-FORCEINSPECTOROPEN:"TRUE"
BEGIN:VTIMEZONE
TZID:Europe/Monaco
BEGIN:STANDARD
DTSTART:20221030T010000
TZOFFSETTO:+0100
TZOFFSETFROM:+0200
RRULE:FREQ=YEARLY;BYMONTH=11;BYDAY=1SU
END:STANDARD
BEGIN:DAYLIGHT
DTSTART:20220327T010000
TZOFFSETTO:+0200
TZOFFSETFROM:+0100
RRULE:FREQ=YEARLY;BYMONTH=3;BYDAY=2SU
END:DAYLIGHT
END:VTIMEZONE
BEGIN:VEVENT
UID:1029-875607d0795ab423e1727c77d15ec1b5-principocket.com\n
DTSTART:20220127T200000
DTEND:20220127T200000
TRANSP:TRANSPARENT
IMAGE;VALUE=URI;DISPLAY=;FMTTYPE=image/png:https://app.monacoplatform.
 com/uploads/DY/DYRvelJtpU.jpg
STATUS:CONFIRMED
SUMMARY:Concert symphonique
DESCRIPTION:Jeudi 27 janvier 2022\, à 20h\, Auditorium Rainier III\n\
 nSérie Grande Saison : concert symphonique par l'Orchestre Philharmon
 ique de Monte-Carlo sous la direction de Gábor Takács-Nagy avec Fatm
 a Saïd\, soprano et Martin Helmchen\, piano. Au programme : Wolfgang 
 Amadeus Mozart et Joseph Haydn\n\n https://www.principocket.com/fr/eve
 nt/875607d0795ab423e1727c77d15ec1b5/concert-symphonique
LOCATION:Boulevard Louis II
URL:https://www.principocket.com/event/875607d0795ab423e1727c77d15ec1b
 5/1029
DTSTAMP:20260420T235353Z
CREATED:20220124T083114Z
LAST-MODIFIED:20220124T083114Z
END:VEVENT
END:VCALENDAR
