BEGIN:VCALENDAR
VERSION:2.0
PRODID:-//Microsoft Corporation//Outlook 16.0 MIMEDIR//FR
CALSCALE:GREGORIAN
METHOD:PUBLISH
X-WR-TIMEZONE:Europe/Monaco
X-MS-OLK-FORCEINSPECTOROPEN:"TRUE"
BEGIN:VTIMEZONE
TZID:Europe/Monaco
BEGIN:STANDARD
DTSTART:20221030T010000
TZOFFSETTO:+0100
TZOFFSETFROM:+0200
RRULE:FREQ=YEARLY;BYMONTH=11;BYDAY=1SU
END:STANDARD
BEGIN:DAYLIGHT
DTSTART:20220327T010000
TZOFFSETTO:+0200
TZOFFSETFROM:+0100
RRULE:FREQ=YEARLY;BYMONTH=3;BYDAY=2SU
END:DAYLIGHT
END:VTIMEZONE
BEGIN:VEVENT
UID:1028-8484b463b38d701c00f280e4f9e6d301-principocket.com\n
DTSTART:20220122T200000
DTEND:20220122T200000
TRANSP:TRANSPARENT
IMAGE;VALUE=URI;DISPLAY=;FMTTYPE=image/png:https://app.monacoplatform.
 com/uploads/lc/lcJDGiNfM9.jpg
STATUS:CONFIRMED
SUMMARY:Concert symphonique
DESCRIPTION:Samedi 22 janvier 2022\, à 20h\, Auditorium Rainier III\n
 \nSérie Grande Saison : concert symphonique par l'Orchestre Philharmo
 nique de Monte-Carlo sous la direction de Stanislav Kochanovksy avec M
 atthias Goerne\, baryton. Au programme : Dmitri Chostakovitch et Nikol
 aï Rimsky-Korsakov\n\n https://www.principocket.com/fr/event/8484b463
 b38d701c00f280e4f9e6d301/concert-symphonique
LOCATION:Boulevard Louis II
URL:https://www.principocket.com/event/8484b463b38d701c00f280e4f9e6d30
 1/1028
DTSTAMP:20260420T222546Z
CREATED:20220117T085732Z
LAST-MODIFIED:20220117T085732Z
END:VEVENT
END:VCALENDAR
