BEGIN:VCALENDAR
VERSION:2.0
PRODID:-//Microsoft Corporation//Outlook 16.0 MIMEDIR//FR
CALSCALE:GREGORIAN
METHOD:PUBLISH
X-WR-TIMEZONE:Europe/Monaco
X-MS-OLK-FORCEINSPECTOROPEN:"TRUE"
BEGIN:VTIMEZONE
TZID:Europe/Monaco
BEGIN:STANDARD
DTSTART:20221030T010000
TZOFFSETTO:+0100
TZOFFSETFROM:+0200
RRULE:FREQ=YEARLY;BYMONTH=11;BYDAY=1SU
END:STANDARD
BEGIN:DAYLIGHT
DTSTART:20220327T010000
TZOFFSETTO:+0200
TZOFFSETFROM:+0100
RRULE:FREQ=YEARLY;BYMONTH=3;BYDAY=2SU
END:DAYLIGHT
END:VTIMEZONE
BEGIN:VEVENT
UID:1024-b06d410b129c8c109d1ee2c8f83f891a-principocket.com\n
DTSTART:20220109T180000
DTEND:20220109T180000
TRANSP:TRANSPARENT
IMAGE;VALUE=URI;DISPLAY=;FMTTYPE=image/png:https://app.monacoplatform.
 com/uploads/H5/H5TXZoRfQJ.jpg
STATUS:CONFIRMED
SUMMARY:Concert symphonique
DESCRIPTION:Dimanche 9 janvier 2022\, à 18h\, Auditorium Rainier III\
 n\nSérie Grande Saison : Concert symphonique par l'Orchestre Philharm
 onique de Monte-Carlo sous la direction de Charles Dutoit avec Martha 
 Argerich\, piano. Au programme : Fauré\, Ravel\, Stravinsky\n\n https
 ://www.principocket.com/fr/event/b06d410b129c8c109d1ee2c8f83f891a/conc
 ert-symphonique
LOCATION:Boulevard Louis II
URL:https://www.principocket.com/event/b06d410b129c8c109d1ee2c8f83f891
 a/1024
DTSTAMP:20260422T104204Z
CREATED:20220106T080345Z
LAST-MODIFIED:20220106T080345Z
END:VEVENT
END:VCALENDAR
