BEGIN:VCALENDAR
VERSION:2.0
PRODID:-//Microsoft Corporation//Outlook 16.0 MIMEDIR//FR
CALSCALE:GREGORIAN
METHOD:PUBLISH
X-WR-TIMEZONE:Europe/Monaco
X-MS-OLK-FORCEINSPECTOROPEN:"TRUE"
BEGIN:VTIMEZONE
TZID:Europe/Monaco
BEGIN:STANDARD
DTSTART:20211031T010000
TZOFFSETTO:+0100
TZOFFSETFROM:+0200
RRULE:FREQ=YEARLY;BYMONTH=11;BYDAY=1SU
END:STANDARD
BEGIN:DAYLIGHT
DTSTART:20210328T010000
TZOFFSETTO:+0200
TZOFFSETFROM:+0100
RRULE:FREQ=YEARLY;BYMONTH=3;BYDAY=2SU
END:DAYLIGHT
END:VTIMEZONE
BEGIN:VEVENT
UID:990-801e7c4014b2307153ab2c57f5dafd24-principocket.com\n
DTSTART:20210926T180000
DTEND:20210926T180000
TRANSP:TRANSPARENT
IMAGE;VALUE=URI;DISPLAY=;FMTTYPE=image/png:https://app.monacoplatform.
 com/uploads/Uc/UcK9aPy8Lh.jpg
STATUS:CONFIRMED
SUMMARY:Monte-Carlo Philharmonic Orchestra
DESCRIPTION:Sunday 26 September 2021\, at 6 pm Auditorium Rainier III\
 n\nGrand Season Series: concert by the Monte-Carlo Philharmonic Orches
 tra conducted by Kazuki Yamada with Genia Kühmeier\, soprano\, Sophie
  Rennert\, mezzo-soprano\, Werner Güra tenor\, Johannes Weisser\, bar
 itone\, and the London Symphony Chorus. Music by Ludwig van Beethoven\
 n\n https://www.principocket.com/en/event/801e7c4014b2307153ab2c57f5da
 fd24/monte-carlo-philharmonic-orchestra
LOCATION:Boulevard Louis II
URL:https://www.principocket.com/event/801e7c4014b2307153ab2c57f5dafd24/990
DTSTAMP:20260420T140319Z
CREATED:20210917T070402Z
LAST-MODIFIED:20210917T070402Z
END:VEVENT
END:VCALENDAR
