BEGIN:VCALENDAR
VERSION:2.0
PRODID:-//Microsoft Corporation//Outlook 16.0 MIMEDIR//FR
CALSCALE:GREGORIAN
METHOD:PUBLISH
X-WR-TIMEZONE:Europe/Monaco
X-MS-OLK-FORCEINSPECTOROPEN:"TRUE"
BEGIN:VTIMEZONE
TZID:Europe/Monaco
BEGIN:STANDARD
DTSTART:20211031T010000
TZOFFSETTO:+0100
TZOFFSETFROM:+0200
RRULE:FREQ=YEARLY;BYMONTH=11;BYDAY=1SU
END:STANDARD
BEGIN:DAYLIGHT
DTSTART:20210328T010000
TZOFFSETTO:+0200
TZOFFSETFROM:+0100
RRULE:FREQ=YEARLY;BYMONTH=3;BYDAY=2SU
END:DAYLIGHT
END:VTIMEZONE
BEGIN:VEVENT
UID:915-e6961c867a2ed41ebd56060cb41fda6d-principocket.com\n
DTSTART:20210623T200000
DTEND:20210623T200000
TRANSP:TRANSPARENT
IMAGE;VALUE=URI;DISPLAY=;FMTTYPE=image/png:https://app.monacoplatform.
 com/uploads/Pd/PdtPFXb-0-.jpg
STATUS:CONFIRMED
SUMMARY:Concert des élèves de l'Académie Rainier III
DESCRIPTION:Mercredi 23 juin 2021\, à 20h\, Fort Antoine\n\nConcert d
 es élèves de l'Académie Rainier III\, à l'occasion de la Fête de 
 la Musique\n\n https://www.principocket.com/en/event/e6961c867a2ed41eb
 d56060cb41fda6d/concert-des-eleves-de-l-academie-rainier-iii
LOCATION:Avenue de la Quarantaine
URL:https://www.principocket.com/event/e6961c867a2ed41ebd56060cb41fda6d/915
DTSTAMP:20260422T155652Z
CREATED:20210618T122957Z
LAST-MODIFIED:20210618T122957Z
END:VEVENT
END:VCALENDAR
