BEGIN:VCALENDAR
VERSION:2.0
PRODID:-//Microsoft Corporation//Outlook 16.0 MIMEDIR//FR
CALSCALE:GREGORIAN
METHOD:PUBLISH
X-WR-TIMEZONE:Europe/Monaco
X-MS-OLK-FORCEINSPECTOROPEN:"TRUE"
BEGIN:VTIMEZONE
TZID:Europe/Monaco
BEGIN:STANDARD
DTSTART:20211031T010000
TZOFFSETTO:+0100
TZOFFSETFROM:+0200
RRULE:FREQ=YEARLY;BYMONTH=11;BYDAY=1SU
END:STANDARD
BEGIN:DAYLIGHT
DTSTART:20210328T010000
TZOFFSETTO:+0200
TZOFFSETFROM:+0100
RRULE:FREQ=YEARLY;BYMONTH=3;BYDAY=2SU
END:DAYLIGHT
END:VTIMEZONE
BEGIN:VEVENT
UID:913-034f136ce6f55b7b47a051a9c043f95a-principocket.com\n
DTSTART:20210621T200000
DTEND:20210621T200000
TRANSP:TRANSPARENT
IMAGE;VALUE=URI;DISPLAY=;FMTTYPE=image/png:https://app.monacoplatform.
 com/uploads/9W/9WcCr0rJTS.jpg
STATUS:CONFIRMED
SUMMARY:Faada Freddy
DESCRIPTION:Monday 21 June 2021\, at 8 pm Fort Antoine\n\nMake Music D
 ay\, with Faada Freddy\n\n https://www.principocket.com/en/event/034f1
 36ce6f55b7b47a051a9c043f95a/faada-freddy
LOCATION:Avenue de la Quarantaine
URL:https://www.principocket.com/event/034f136ce6f55b7b47a051a9c043f95a/913
DTSTAMP:20260422T190623Z
CREATED:20210618T122957Z
LAST-MODIFIED:20210618T122957Z
END:VEVENT
END:VCALENDAR
