BEGIN:VCALENDAR
VERSION:2.0
PRODID:-//Microsoft Corporation//Outlook 16.0 MIMEDIR//FR
CALSCALE:GREGORIAN
METHOD:PUBLISH
X-WR-TIMEZONE:Europe/Monaco
X-MS-OLK-FORCEINSPECTOROPEN:"TRUE"
BEGIN:VTIMEZONE
TZID:Europe/Monaco
BEGIN:STANDARD
DTSTART:20211031T010000
TZOFFSETTO:+0100
TZOFFSETFROM:+0200
RRULE:FREQ=YEARLY;BYMONTH=11;BYDAY=1SU
END:STANDARD
BEGIN:DAYLIGHT
DTSTART:20210328T010000
TZOFFSETTO:+0200
TZOFFSETFROM:+0100
RRULE:FREQ=YEARLY;BYMONTH=3;BYDAY=2SU
END:DAYLIGHT
END:VTIMEZONE
BEGIN:VEVENT
UID:797-61e1849ed8778000e9dfdfef54e6ade7-principocket.com\n
DTSTART:20210320T140000
DTEND:20210329T170000
TRANSP:TRANSPARENT
IMAGE;VALUE=URI;DISPLAY=;FMTTYPE=image/png:https://app.monacoplatform.
 com/uploads/GC/GCtuHS17u_.png
STATUS:CONFIRMED
SUMMARY:I Lombardi alla prima crociata
DESCRIPTION:\n\n\n\n https://www.principocket.com/en/event/61e1849ed87
 78000e9dfdfef54e6ade7/i-lombardi-alla-prima-crociata
LOCATION:Place du Casino
URL:https://www.principocket.com/event/61e1849ed8778000e9dfdfef54e6ade7/797
DTSTAMP:20260422T123505Z
CREATED:20210608T142347Z
LAST-MODIFIED:20210608T142347Z
END:VEVENT
END:VCALENDAR
