BEGIN:VCALENDAR
VERSION:2.0
PRODID:-//Microsoft Corporation//Outlook 16.0 MIMEDIR//FR
CALSCALE:GREGORIAN
METHOD:PUBLISH
X-WR-TIMEZONE:Europe/Monaco
X-MS-OLK-FORCEINSPECTOROPEN:"TRUE"
BEGIN:VTIMEZONE
TZID:Europe/Monaco
BEGIN:STANDARD
DTSTART:20211031T010000
TZOFFSETTO:+0100
TZOFFSETFROM:+0200
RRULE:FREQ=YEARLY;BYMONTH=11;BYDAY=1SU
END:STANDARD
BEGIN:DAYLIGHT
DTSTART:20210328T010000
TZOFFSETTO:+0200
TZOFFSETFROM:+0100
RRULE:FREQ=YEARLY;BYMONTH=3;BYDAY=2SU
END:DAYLIGHT
END:VTIMEZONE
BEGIN:VEVENT
UID:792-db6ca8d80bf325c16981129c78ccbc69-principocket.com\n
DTSTART:20210722T213000
DTEND:20210722T213000
TRANSP:TRANSPARENT
IMAGE;VALUE=URI;DISPLAY=;FMTTYPE=image/png:https://app.monacoplatform.
 com/uploads/-7/-7w53PKfsv.jpg
STATUS:CONFIRMED
SUMMARY:Monte-Carlo Philharmonic Orchestra
DESCRIPTION:Thursday 22 July 2021\, at 9.30 pm Palais Princier - Cour 
 d'Honneur\n\nSymphonic concert by the Monte-Carlo Philharmonic Orchest
 ra conducted by Tomas Netopil\, with Katia and Marielle Labèque\, pia
 no. On the programme: Maurice Ravel and Françis Poulenc\n\n https://w
 ww.principocket.com/en/event/db6ca8d80bf325c16981129c78ccbc69/monte-ca
 rlo-philharmonic-orchestra
LOCATION:98015 Monaco
URL:https://www.principocket.com/event/db6ca8d80bf325c16981129c78ccbc69/792
DTSTAMP:20260423T060838Z
CREATED:20210719T071546Z
LAST-MODIFIED:20210719T071546Z
END:VEVENT
END:VCALENDAR
