BEGIN:VCALENDAR
VERSION:2.0
PRODID:-//Microsoft Corporation//Outlook 16.0 MIMEDIR//FR
CALSCALE:GREGORIAN
METHOD:PUBLISH
X-WR-TIMEZONE:Europe/Monaco
X-MS-OLK-FORCEINSPECTOROPEN:"TRUE"
BEGIN:VTIMEZONE
TZID:Europe/Monaco
BEGIN:STANDARD
DTSTART:20211031T010000
TZOFFSETTO:+0100
TZOFFSETFROM:+0200
RRULE:FREQ=YEARLY;BYMONTH=11;BYDAY=1SU
END:STANDARD
BEGIN:DAYLIGHT
DTSTART:20210328T010000
TZOFFSETTO:+0200
TZOFFSETFROM:+0100
RRULE:FREQ=YEARLY;BYMONTH=3;BYDAY=2SU
END:DAYLIGHT
END:VTIMEZONE
BEGIN:VEVENT
UID:790-96eed523a6940fee87f5a35226686e67-principocket.com\n
DTSTART:20210715T213000
DTEND:20210715T213000
TRANSP:TRANSPARENT
IMAGE;VALUE=URI;DISPLAY=;FMTTYPE=image/png:https://app.monacoplatform.
 com/uploads/tm/tmA3ExR5pc.jpg
STATUS:CONFIRMED
SUMMARY:Monte-Carlo Philharmonic Orchestra
DESCRIPTION:Thursday 15 July 2021\, at 9.30 pm Palais Princier - Cour 
 d'Honneur\n\nSymphonic concert by the Monte-Carlo Philharmonic Orchest
 ra  conducted by Valery Gergiev. On the programme: Claude Debussy and 
 Igor Stravinsky\n\n https://www.principocket.com/en/event/96eed523a694
 0fee87f5a35226686e67/monte-carlo-philharmonic-orchestra
LOCATION:98015 Monaco
URL:https://www.principocket.com/event/96eed523a6940fee87f5a35226686e67/790
DTSTAMP:20260423T031025Z
CREATED:20210618T122957Z
LAST-MODIFIED:20210618T122957Z
END:VEVENT
END:VCALENDAR
