BEGIN:VCALENDAR
VERSION:2.0
PRODID:-//Microsoft Corporation//Outlook 16.0 MIMEDIR//FR
CALSCALE:GREGORIAN
METHOD:PUBLISH
X-WR-TIMEZONE:Europe/Monaco
X-MS-OLK-FORCEINSPECTOROPEN:"TRUE"
BEGIN:VTIMEZONE
TZID:Europe/Monaco
BEGIN:STANDARD
DTSTART:20261025T010000
TZOFFSETTO:+0100
TZOFFSETFROM:+0200
RRULE:FREQ=YEARLY;BYMONTH=11;BYDAY=1SU
END:STANDARD
BEGIN:DAYLIGHT
DTSTART:20260329T010000
TZOFFSETTO:+0200
TZOFFSETFROM:+0100
RRULE:FREQ=YEARLY;BYMONTH=3;BYDAY=2SU
END:DAYLIGHT
END:VTIMEZONE
BEGIN:VEVENT
UID:6323-a28558fbd85e157f8680c3d731d9fc70-principocket.com\n
DTSTART:20260509T093000
DTEND:20260511T180000
TRANSP:TRANSPARENT
IMAGE;VALUE=URI;DISPLAY=;FMTTYPE=image/png:https://app.monacoplatform.
 com/uploads/L9/L9Vn93vXni.png
STATUS:CONFIRMED
SUMMARY:57th International Bouquet Competition
DESCRIPTION:From Saturday 9\, 09:30 to Sunday 10 May 2026\, 18:00 - Ya
 cht Club de Monaco\n\nThe International Bouquet Competition\, held und
 er the theme “CELESTE.”\nOrganized under the High Patronage of H.S
 .H. Prince Albert II and the Presidency of H.R.H. the Princess of Hano
 ver\, this event showcases floral art in the prestigious setting of th
 e Yacht Club of Monaco.\n\n https://www.principocket.com/en/event/a285
 58fbd85e157f8680c3d731d9fc70/57th-international-bouquet-competition
LOCATION:Quai Louis II
URL:https://www.principocket.com/event/a28558fbd85e157f8680c3d731d9fc7
 0/6323
DTSTAMP:20260424T155855Z
CREATED:20260423T230003Z
LAST-MODIFIED:20260423T230003Z
END:VEVENT
END:VCALENDAR
