BEGIN:VCALENDAR
VERSION:2.0
PRODID:-//Microsoft Corporation//Outlook 16.0 MIMEDIR//FR
CALSCALE:GREGORIAN
METHOD:PUBLISH
X-WR-TIMEZONE:Europe/Monaco
X-MS-OLK-FORCEINSPECTOROPEN:"TRUE"
BEGIN:VTIMEZONE
TZID:Europe/Monaco
BEGIN:STANDARD
DTSTART:20261025T010000
TZOFFSETTO:+0100
TZOFFSETFROM:+0200
RRULE:FREQ=YEARLY;BYMONTH=11;BYDAY=1SU
END:STANDARD
BEGIN:DAYLIGHT
DTSTART:20260329T010000
TZOFFSETTO:+0200
TZOFFSETFROM:+0100
RRULE:FREQ=YEARLY;BYMONTH=3;BYDAY=2SU
END:DAYLIGHT
END:VTIMEZONE
BEGIN:VEVENT
UID:6311-6e17380680f99d0c8ce7720ae217ea0f-principocket.com\n
DTSTART:20260702T000000
DTEND:20260705T235900
TRANSP:TRANSPARENT
IMAGE;VALUE=URI;DISPLAY=;FMTTYPE=image/png:https://app.monacoplatform.
 com/uploads/kV/kVZ1ZEnpHT.png
STATUS:CONFIRMED
SUMMARY:20th Jumping International de Monte-Carlo 2026
DESCRIPTION:From Thursday 2 to Saturday 4 July 2026 - Port Hercule de 
 Monaco\n\nIn 2026\, the Monte-Carlo International Jumping will reach a
  truly exceptional milestone. This anniversary edition celebrates 20 y
 ears of excellence\, passion\, and excitement in the heart of the Prin
 cipality—twenty years during which the event has established itself 
 as one of the most iconic events on the international equestrian calen
 dar.\n\n https://www.principocket.com/en/event/6e17380680f99d0c8ce7720
 ae217ea0f/20th-jumping-international-de-monte-carlo-2026
LOCATION:Port Hercule\, Monaco
URL:https://www.principocket.com/event/6e17380680f99d0c8ce7720ae217ea0
 f/6311
DTSTAMP:20260422T175431Z
CREATED:20260422T133403Z
LAST-MODIFIED:20260422T133403Z
X-MICROSOFT-CDO-ALLDAYEVENT:TRUE
END:VEVENT
END:VCALENDAR
