BEGIN:VCALENDAR
VERSION:2.0
PRODID:-//Microsoft Corporation//Outlook 16.0 MIMEDIR//FR
CALSCALE:GREGORIAN
METHOD:PUBLISH
X-WR-TIMEZONE:Europe/Monaco
X-MS-OLK-FORCEINSPECTOROPEN:"TRUE"
BEGIN:VTIMEZONE
TZID:Europe/Monaco
BEGIN:STANDARD
DTSTART:20261025T010000
TZOFFSETTO:+0100
TZOFFSETFROM:+0200
RRULE:FREQ=YEARLY;BYMONTH=11;BYDAY=1SU
END:STANDARD
BEGIN:DAYLIGHT
DTSTART:20260329T010000
TZOFFSETTO:+0200
TZOFFSETFROM:+0100
RRULE:FREQ=YEARLY;BYMONTH=3;BYDAY=2SU
END:DAYLIGHT
END:VTIMEZONE
BEGIN:VEVENT
UID:6273-53035a841596bbc30831d14cd5c0ae43-principocket.com\n
DTSTART:20260530T200000
DTEND:20260530T223000
TRANSP:TRANSPARENT
IMAGE;VALUE=URI;DISPLAY=;FMTTYPE=image/png:https://app.monacoplatform.
 com/uploads/ot/otVXjZOuzU.jpeg
STATUS:CONFIRMED
SUMMARY:NINO ARIAL - PAS COMME EUX
DESCRIPTION:Saturday 30 May 2026 from 20:00 to 22:30 - Grimaldi Forum 
 Monaco\n\n\n\n https://www.principocket.com/en/event/53035a841596bbc30
 831d14cd5c0ae43/nino-arial-pas-comme-eux
LOCATION:10\, avenue Princesse Grace
URL:https://www.principocket.com/event/53035a841596bbc30831d14cd5c0ae4
 3/6273
DTSTAMP:20260421T213752Z
CREATED:20260421T140359Z
LAST-MODIFIED:20260421T140359Z
END:VEVENT
END:VCALENDAR
