BEGIN:VCALENDAR
VERSION:2.0
PRODID:-//Microsoft Corporation//Outlook 16.0 MIMEDIR//FR
CALSCALE:GREGORIAN
METHOD:PUBLISH
X-WR-TIMEZONE:Europe/Monaco
X-MS-OLK-FORCEINSPECTOROPEN:"TRUE"
BEGIN:VTIMEZONE
TZID:Europe/Monaco
BEGIN:STANDARD
DTSTART:20261025T010000
TZOFFSETTO:+0100
TZOFFSETFROM:+0200
RRULE:FREQ=YEARLY;BYMONTH=11;BYDAY=1SU
END:STANDARD
BEGIN:DAYLIGHT
DTSTART:20260329T010000
TZOFFSETTO:+0200
TZOFFSETFROM:+0100
RRULE:FREQ=YEARLY;BYMONTH=3;BYDAY=2SU
END:DAYLIGHT
END:VTIMEZONE
BEGIN:VEVENT
UID:6236-ed7f8607c8a31c731b90d5109821694e-principocket.com\n
DTSTART:20260413T090000
DTEND:20260425T170000
TRANSP:TRANSPARENT
IMAGE;VALUE=URI;DISPLAY=;FMTTYPE=image/png:https://app.monacoplatform.
 com/uploads/aD/aDudS69yUt.png
STATUS:CONFIRMED
SUMMARY:Club Oceano - Discovery course on the Ocean
DESCRIPTION:From Monday 13 to Friday 24 April 2026\, from 09:00 to 17:
 00 - Oceanographic Museum of Monaco\n\n\n\n https://www.principocket.c
 om/en/event/ed7f8607c8a31c731b90d5109821694e/club-oceano-discovery-cou
 rse-on-the-ocean
LOCATION:Avenue Saint-Martin
URL:https://www.principocket.com/event/ed7f8607c8a31c731b90d5109821694
 e/6236
DTSTAMP:20260420T201220Z
CREATED:20260420T152534Z
LAST-MODIFIED:20260420T152534Z
END:VEVENT
END:VCALENDAR
