BEGIN:VCALENDAR
VERSION:2.0
PRODID:-//Microsoft Corporation//Outlook 16.0 MIMEDIR//FR
CALSCALE:GREGORIAN
METHOD:PUBLISH
X-WR-TIMEZONE:Europe/Monaco
X-MS-OLK-FORCEINSPECTOROPEN:"TRUE"
BEGIN:VTIMEZONE
TZID:Europe/Monaco
BEGIN:STANDARD
DTSTART:20261025T010000
TZOFFSETTO:+0100
TZOFFSETFROM:+0200
RRULE:FREQ=YEARLY;BYMONTH=11;BYDAY=1SU
END:STANDARD
BEGIN:DAYLIGHT
DTSTART:20260329T010000
TZOFFSETTO:+0200
TZOFFSETFROM:+0100
RRULE:FREQ=YEARLY;BYMONTH=3;BYDAY=2SU
END:DAYLIGHT
END:VTIMEZONE
BEGIN:VEVENT
UID:6203-60f3c4da57b7f05d83c186f4046dd3c7-principocket.com\n
DTSTART:20260508T200000
DTEND:20260511T160000
TRANSP:TRANSPARENT
IMAGE;VALUE=URI;DISPLAY=;FMTTYPE=image/png:https://app.monacoplatform.
 com/uploads/En/EnLktl6vzF.png
STATUS:CONFIRMED
SUMMARY:IN CYRANO'S BODY
DESCRIPTION:From Friday 8 to Sunday 10 May 2026\, from 20:00 to 16:00 
 - Théâtre des Muses\n\nNEW DATES - FOLLOWING THE TRIUMPH\n\n https:/
 /www.principocket.com/en/event/60f3c4da57b7f05d83c186f4046dd3c7/in-cyr
 ano-s-body
LOCATION:45\, boulevard du Jardin Exotique
URL:https://www.principocket.com/event/60f3c4da57b7f05d83c186f4046dd3c
 7/6203
DTSTAMP:20260421T094149Z
CREATED:20260417T100535Z
LAST-MODIFIED:20260417T100535Z
END:VEVENT
END:VCALENDAR
