BEGIN:VCALENDAR
VERSION:2.0
PRODID:-//Microsoft Corporation//Outlook 16.0 MIMEDIR//FR
CALSCALE:GREGORIAN
METHOD:PUBLISH
X-WR-TIMEZONE:Europe/Monaco
X-MS-OLK-FORCEINSPECTOROPEN:"TRUE"
BEGIN:VTIMEZONE
TZID:Europe/Monaco
BEGIN:STANDARD
DTSTART:20261025T010000
TZOFFSETTO:+0100
TZOFFSETFROM:+0200
RRULE:FREQ=YEARLY;BYMONTH=11;BYDAY=1SU
END:STANDARD
BEGIN:DAYLIGHT
DTSTART:20260329T010000
TZOFFSETTO:+0200
TZOFFSETFROM:+0100
RRULE:FREQ=YEARLY;BYMONTH=3;BYDAY=2SU
END:DAYLIGHT
END:VTIMEZONE
BEGIN:VEVENT
UID:6201-15db15b7509da92ae68b10e47fc51523-principocket.com\n
DTSTART:20260611T200000
DTEND:20260615T190000
TRANSP:TRANSPARENT
IMAGE;VALUE=URI;DISPLAY=;FMTTYPE=image/png:https://app.monacoplatform.
 com/uploads/Gs/GsrmAlD87X.png
STATUS:CONFIRMED
SUMMARY:SCAPIN'S TRICKS
DESCRIPTION:From Thursday 11 to Sunday 14 June 2026\, from 20:00 to 19
 :00 - Théâtre des Muses\n\n"But what the hell was he doing in that g
 alley?" In a frenetic rhythm\, a troupe of five actors\, musicians and
  singers takes hold of one of Molière's funniest comedies\, revisited
  in music in the spirit of the trestle theatre and the commedia dell'a
 rte.\n\n https://www.principocket.com/en/event/15db15b7509da92ae68b10e
 47fc51523/scapin-s-tricks
LOCATION:45\, boulevard du Jardin Exotique
URL:https://www.principocket.com/event/15db15b7509da92ae68b10e47fc5152
 3/6201
DTSTAMP:20260420T140149Z
CREATED:20260416T105542Z
LAST-MODIFIED:20260416T105542Z
END:VEVENT
END:VCALENDAR
