BEGIN:VCALENDAR
VERSION:2.0
PRODID:-//Microsoft Corporation//Outlook 16.0 MIMEDIR//FR
CALSCALE:GREGORIAN
METHOD:PUBLISH
X-WR-TIMEZONE:Europe/Monaco
X-MS-OLK-FORCEINSPECTOROPEN:"TRUE"
BEGIN:VTIMEZONE
TZID:Europe/Monaco
BEGIN:STANDARD
DTSTART:20201025T010000
TZOFFSETTO:+0100
TZOFFSETFROM:+0200
RRULE:FREQ=YEARLY;BYMONTH=11;BYDAY=1SU
END:STANDARD
BEGIN:DAYLIGHT
DTSTART:20200329T010000
TZOFFSETTO:+0200
TZOFFSETFROM:+0100
RRULE:FREQ=YEARLY;BYMONTH=3;BYDAY=2SU
END:DAYLIGHT
END:VTIMEZONE
BEGIN:VEVENT
UID:605-38344284247cb2845795837175b89878-principocket.com\n
DTSTART:20201105T183000
DTEND:20201105T183000
TRANSP:TRANSPARENT
IMAGE;VALUE=URI;DISPLAY=;FMTTYPE=image/png:https://app.monacoplatform.
 com/uploads/6S/6SaMHtvz30.jpg
STATUS:CONFIRMED
SUMMARY:Book Signing
DESCRIPTION:Thursday 5 November 2020\, at 6.30 pm Médiathèque de Mon
 aco - Bibliothèque Louis Notari\n\nBook signing with author Yannick G
 rannec\, signing copies of his new novel "Les Simples"\n\n https://www
 .principocket.com/en/event/38344284247cb2845795837175b89878/book-signi
 ng
LOCATION:5 Promenade Honoré II\, Monaco
URL:https://www.principocket.com/event/38344284247cb2845795837175b89878/605
DTSTAMP:20260420T230745Z
CREATED:20201026T094347Z
LAST-MODIFIED:20201026T094347Z
END:VEVENT
END:VCALENDAR
