BEGIN:VCALENDAR
VERSION:2.0
PRODID:-//Microsoft Corporation//Outlook 16.0 MIMEDIR//FR
CALSCALE:GREGORIAN
METHOD:PUBLISH
X-WR-TIMEZONE:Europe/Monaco
X-MS-OLK-FORCEINSPECTOROPEN:"TRUE"
BEGIN:VTIMEZONE
TZID:Europe/Monaco
BEGIN:STANDARD
DTSTART:20201025T010000
TZOFFSETTO:+0100
TZOFFSETFROM:+0200
RRULE:FREQ=YEARLY;BYMONTH=11;BYDAY=1SU
END:STANDARD
BEGIN:DAYLIGHT
DTSTART:20200329T010000
TZOFFSETTO:+0200
TZOFFSETFROM:+0100
RRULE:FREQ=YEARLY;BYMONTH=3;BYDAY=2SU
END:DAYLIGHT
END:VTIMEZONE
BEGIN:VEVENT
UID:604-25bc39147c539d56dcb01e3fc8991b8f-principocket.com\n
DTSTART:20201103T200000
DTEND:20201103T200000
TRANSP:TRANSPARENT
IMAGE;VALUE=URI;DISPLAY=;FMTTYPE=image/png:https://app.monacoplatform.
 com/uploads/jZ/jZ3K9ecVKc.jpg
STATUS:CONFIRMED
SUMMARY:The Crisis is Over
DESCRIPTION:Tuesday 3 November 2020\, at 8 pm Théâtre des Variétés
 \n\nThe Art of the Cinema - Restored film: screening of the film "The 
 Crisis is Over" by Robert Siodmak\, organised by the Audiovisual Insti
 tute of Monaco in partnership with Les Archives françaises du film\n\
 n https://www.principocket.com/en/event/25bc39147c539d56dcb01e3fc8991b
 8f/the-crisis-is-over
LOCATION:1\, boulevard Albert Ier
URL:https://www.principocket.com/event/25bc39147c539d56dcb01e3fc8991b8f/604
DTSTAMP:20260420T213843Z
CREATED:20201026T094347Z
LAST-MODIFIED:20201026T094347Z
END:VEVENT
END:VCALENDAR
