BEGIN:VCALENDAR
VERSION:2.0
PRODID:-//Microsoft Corporation//Outlook 16.0 MIMEDIR//FR
CALSCALE:GREGORIAN
METHOD:PUBLISH
X-WR-TIMEZONE:Europe/Monaco
X-MS-OLK-FORCEINSPECTOROPEN:"TRUE"
BEGIN:VTIMEZONE
TZID:Europe/Monaco
BEGIN:STANDARD
DTSTART:20201025T010000
TZOFFSETTO:+0100
TZOFFSETFROM:+0200
RRULE:FREQ=YEARLY;BYMONTH=11;BYDAY=1SU
END:STANDARD
BEGIN:DAYLIGHT
DTSTART:20200329T010000
TZOFFSETTO:+0200
TZOFFSETFROM:+0100
RRULE:FREQ=YEARLY;BYMONTH=3;BYDAY=2SU
END:DAYLIGHT
END:VTIMEZONE
BEGIN:VEVENT
UID:603-c386adad63bd1118f9e4f822ad9cac2e-principocket.com\n
DTSTART:20201030T200000
DTEND:20201030T200000
TRANSP:TRANSPARENT
IMAGE;VALUE=URI;DISPLAY=;FMTTYPE=image/png:https://app.monacoplatform.
 com/uploads/0E/0EcheDUyYD.jpg
STATUS:CONFIRMED
SUMMARY:Around the Laudato Sì Encyclical
DESCRIPTION:Friday 30 October 2020\, at 8 pm Théâtre des Variétés\
 n\n"Autour de l’encyclique Laudato Sì" ("Around the Laudato Sì Enc
 yclical")\, a show based on Pope Francis' encyclical\, with Céline Mo
 nsarrat and Bernard Lanneau\, narrators\, and the Monoïkos string qua
 rtet\, in collaboration with the Albert II Foundation and the Oceanogr
 aphic Museum\n\n https://www.principocket.com/en/event/c386adad63bd111
 8f9e4f822ad9cac2e/around-the-laudato-si-encyclical
LOCATION:1\, boulevard Albert Ier
URL:https://www.principocket.com/event/c386adad63bd1118f9e4f822ad9cac2e/603
DTSTAMP:20260420T201022Z
CREATED:20201026T094347Z
LAST-MODIFIED:20201026T094347Z
END:VEVENT
END:VCALENDAR
