BEGIN:VCALENDAR
VERSION:2.0
PRODID:-//Microsoft Corporation//Outlook 16.0 MIMEDIR//FR
CALSCALE:GREGORIAN
METHOD:PUBLISH
X-WR-TIMEZONE:Europe/Monaco
X-MS-OLK-FORCEINSPECTOROPEN:"TRUE"
BEGIN:VTIMEZONE
TZID:Europe/Monaco
BEGIN:STANDARD
DTSTART:20201025T010000
TZOFFSETTO:+0100
TZOFFSETFROM:+0200
RRULE:FREQ=YEARLY;BYMONTH=11;BYDAY=1SU
END:STANDARD
BEGIN:DAYLIGHT
DTSTART:20200329T010000
TZOFFSETTO:+0200
TZOFFSETFROM:+0100
RRULE:FREQ=YEARLY;BYMONTH=3;BYDAY=2SU
END:DAYLIGHT
END:VTIMEZONE
BEGIN:VEVENT
UID:595-64bfc4c5954e8a76038752ec09cfbf2d-principocket.com\n
DTSTART:20201013T200000
DTEND:20201013T200000
TRANSP:TRANSPARENT
IMAGE;VALUE=URI;DISPLAY=;FMTTYPE=image/png:https://app.monacoplatform.
 com/uploads/r4/r4bytOR4L1.jpg
STATUS:CONFIRMED
SUMMARY:Good News in Middle Earth
DESCRIPTION:Tuesday 13 October 2020\, at 8 pm Agora Maison Diocésaine
  - Salle Polyvalente\n\nLecture on the topic "Good News in Middle Eart
 h"\, by Father Philippe Verdin\n\n https://www.principocket.com/en/eve
 nt/64bfc4c5954e8a76038752ec09cfbf2d/good-news-in-middle-earth
LOCATION:13\, rue Bel Respiro
URL:https://www.principocket.com/event/64bfc4c5954e8a76038752ec09cfbf2d/595
DTSTAMP:20260420T121042Z
CREATED:20201005T102446Z
LAST-MODIFIED:20201005T102446Z
END:VEVENT
END:VCALENDAR
