BEGIN:VCALENDAR
VERSION:2.0
PRODID:-//Microsoft Corporation//Outlook 16.0 MIMEDIR//FR
CALSCALE:GREGORIAN
METHOD:PUBLISH
X-WR-TIMEZONE:Europe/Monaco
X-MS-OLK-FORCEINSPECTOROPEN:"TRUE"
BEGIN:VTIMEZONE
TZID:Europe/Monaco
BEGIN:STANDARD
DTSTART:20211031T010000
TZOFFSETTO:+0100
TZOFFSETFROM:+0200
RRULE:FREQ=YEARLY;BYMONTH=11;BYDAY=1SU
END:STANDARD
BEGIN:DAYLIGHT
DTSTART:20210328T010000
TZOFFSETTO:+0200
TZOFFSETFROM:+0100
RRULE:FREQ=YEARLY;BYMONTH=3;BYDAY=2SU
END:DAYLIGHT
END:VTIMEZONE
BEGIN:VEVENT
UID:575-4db8e87e3ab4d7b23ab15485030fb635-principocket.com\n
DTSTART:20210114T203000
DTEND:20210114T203000
TRANSP:TRANSPARENT
IMAGE;VALUE=URI;DISPLAY=;FMTTYPE=image/png:https://app.monacoplatform.
 com/uploads/z4/z4KUoPKwCi.jpg
STATUS:CONFIRMED
SUMMARY:Vous n'aurez pas le dernier mot
DESCRIPTION:Thursday 14 January 2021\, at 8.30 pm Théâtre Princesse 
 Grace\n\n"Vous n'aurez pas le dernier mot" ("You Shan't Have the Last 
 Word") by Diane Ducret\, with Stéphane Bern\n\n https://www.principoc
 ket.com/en/event/4db8e87e3ab4d7b23ab15485030fb635/vous-n-aurez-pas-le-
 dernier-mot
LOCATION:12\, avenue d'Ostende
URL:https://www.principocket.com/event/4db8e87e3ab4d7b23ab15485030fb635/575
DTSTAMP:20260420T170508Z
CREATED:20210104T144224Z
LAST-MODIFIED:20210104T144224Z
END:VEVENT
END:VCALENDAR
