BEGIN:VCALENDAR
VERSION:2.0
PRODID:-//Microsoft Corporation//Outlook 16.0 MIMEDIR//FR
CALSCALE:GREGORIAN
METHOD:PUBLISH
X-WR-TIMEZONE:Europe/Monaco
X-MS-OLK-FORCEINSPECTOROPEN:"TRUE"
BEGIN:VTIMEZONE
TZID:Europe/Monaco
BEGIN:STANDARD
DTSTART:20211031T010000
TZOFFSETTO:+0100
TZOFFSETFROM:+0200
RRULE:FREQ=YEARLY;BYMONTH=11;BYDAY=1SU
END:STANDARD
BEGIN:DAYLIGHT
DTSTART:20210328T010000
TZOFFSETTO:+0200
TZOFFSETFROM:+0100
RRULE:FREQ=YEARLY;BYMONTH=3;BYDAY=2SU
END:DAYLIGHT
END:VTIMEZONE
BEGIN:VEVENT
UID:574-ec6e4897066a3977440668bf0e86220c-principocket.com\n
DTSTART:20210503T203000
DTEND:20210503T203000
TRANSP:TRANSPARENT
IMAGE;VALUE=URI;DISPLAY=;FMTTYPE=image/png:https://app.monacoplatform.
 com/uploads/VP/VP6aEOBE_3.jpg
STATUS:CONFIRMED
SUMMARY:Les élucubrations d’un homme soudain frappé par la grâce
DESCRIPTION:Monday 3 May 2021\, at 8:30 PM\, Théâtre Princesse Grace
 \n\n"Les élucubrations d’un homme soudain frappé par la grâce" ("
 The Rantings of a Man Suddenly Struck by Grace")\, a show written and 
 performed by Édouard Baer\, Christophe Meynet or Jack Souvant\, Pat a
 nd Tito\n\n https://www.principocket.com/en/event/ec6e4897066a39774406
 68bf0e86220c/les-elucubrations-d-un-homme-soudain-frappe-par-la-grace
LOCATION:12\, avenue d'Ostende
URL:https://www.principocket.com/event/ec6e4897066a3977440668bf0e86220c/574
DTSTAMP:20260420T182236Z
CREATED:20210420T142703Z
LAST-MODIFIED:20210420T142703Z
END:VEVENT
END:VCALENDAR
