BEGIN:VCALENDAR
VERSION:2.0
PRODID:-//Microsoft Corporation//Outlook 16.0 MIMEDIR//FR
CALSCALE:GREGORIAN
METHOD:PUBLISH
X-WR-TIMEZONE:Europe/Monaco
X-MS-OLK-FORCEINSPECTOROPEN:"TRUE"
BEGIN:VTIMEZONE
TZID:Europe/Monaco
BEGIN:STANDARD
DTSTART:20211031T010000
TZOFFSETTO:+0100
TZOFFSETFROM:+0200
RRULE:FREQ=YEARLY;BYMONTH=11;BYDAY=1SU
END:STANDARD
BEGIN:DAYLIGHT
DTSTART:20210328T010000
TZOFFSETTO:+0200
TZOFFSETFROM:+0100
RRULE:FREQ=YEARLY;BYMONTH=3;BYDAY=2SU
END:DAYLIGHT
END:VTIMEZONE
BEGIN:VEVENT
UID:573-d6fdcb9d84c4fc8202266b4cdb79cf1e-principocket.com\n
DTSTART:20210107T203000
DTEND:20210107T203000
TRANSP:TRANSPARENT
IMAGE;VALUE=URI;DISPLAY=;FMTTYPE=image/png:https://app.monacoplatform.
 com/uploads/G-/G-I7MAe5B_.jpg
STATUS:CONFIRMED
SUMMARY:La Convivialité
DESCRIPTION:Thursday 7 January 2021\, at 8.30 pm Théâtre Princesse G
 race\n\n"La Convivialité - La Faute de l'Orthographe" ("Conviviality 
 - The Spelling Mistake")\, a lecture-style show about the French langu
 age and spelling\, with Arnaud Hoedt and Jérôme Piron\n\n https://ww
 w.principocket.com/en/event/d6fdcb9d84c4fc8202266b4cdb79cf1e/la-conviv
 ialite
LOCATION:12\, avenue d'Ostende
URL:https://www.principocket.com/event/d6fdcb9d84c4fc8202266b4cdb79cf1e/573
DTSTAMP:20260420T192742Z
CREATED:20210104T144224Z
LAST-MODIFIED:20210104T144224Z
END:VEVENT
END:VCALENDAR
