BEGIN:VCALENDAR
VERSION:2.0
PRODID:-//Microsoft Corporation//Outlook 16.0 MIMEDIR//FR
CALSCALE:GREGORIAN
METHOD:PUBLISH
X-WR-TIMEZONE:Europe/Monaco
X-MS-OLK-FORCEINSPECTOROPEN:"TRUE"
BEGIN:VTIMEZONE
TZID:Europe/Monaco
BEGIN:STANDARD
DTSTART:20201025T010000
TZOFFSETTO:+0100
TZOFFSETFROM:+0200
RRULE:FREQ=YEARLY;BYMONTH=11;BYDAY=1SU
END:STANDARD
BEGIN:DAYLIGHT
DTSTART:20200329T010000
TZOFFSETTO:+0200
TZOFFSETFROM:+0100
RRULE:FREQ=YEARLY;BYMONTH=3;BYDAY=2SU
END:DAYLIGHT
END:VTIMEZONE
BEGIN:VEVENT
UID:571-c7fe11a649ef10b684bbf54fe0fbbc28-principocket.com\n
DTSTART:20201215T193000
DTEND:20201215T193000
TRANSP:TRANSPARENT
IMAGE;VALUE=URI;DISPLAY=;FMTTYPE=image/png:https://app.monacoplatform.
 com/uploads/AL/ALaWv4dvRc.jpg
STATUS:CONFIRMED
SUMMARY:Universalités, l’homme et le Cosmos
DESCRIPTION:Tuesday 15 December 2020\, at 7.30 pm Théâtre Princesse 
 Grace\n\n"Universalités\, l’homme et le Cosmos" (Universalities\, M
 an and the Cosmos")\, written and performed by Shani Diluka\, piano\, 
 and Charles Berling\, literature and poetry\, Mehboob Nadeem\, sitar\,
  Mitel Purohit\, Tablah\, and guests... presented by Claire Chazal\n\n
  https://www.principocket.com/en/event/c7fe11a649ef10b684bbf54fe0fbbc2
 8/universalites-l-homme-et-le-cosmos
LOCATION:12\, avenue d'Ostende
URL:https://www.principocket.com/event/c7fe11a649ef10b684bbf54fe0fbbc28/571
DTSTAMP:20260420T223106Z
CREATED:20201026T094347Z
LAST-MODIFIED:20201026T094347Z
END:VEVENT
END:VCALENDAR
