BEGIN:VCALENDAR
VERSION:2.0
PRODID:-//Microsoft Corporation//Outlook 16.0 MIMEDIR//FR
CALSCALE:GREGORIAN
METHOD:PUBLISH
X-WR-TIMEZONE:Europe/Monaco
X-MS-OLK-FORCEINSPECTOROPEN:"TRUE"
BEGIN:VTIMEZONE
TZID:Europe/Monaco
BEGIN:STANDARD
DTSTART:20201025T010000
TZOFFSETTO:+0100
TZOFFSETFROM:+0200
RRULE:FREQ=YEARLY;BYMONTH=11;BYDAY=1SU
END:STANDARD
BEGIN:DAYLIGHT
DTSTART:20200329T010000
TZOFFSETTO:+0200
TZOFFSETFROM:+0100
RRULE:FREQ=YEARLY;BYMONTH=3;BYDAY=2SU
END:DAYLIGHT
END:VTIMEZONE
BEGIN:VEVENT
UID:570-14d5ab73b2c7cd18df86bafc95f30a80-principocket.com\n
DTSTART:20201209T150000
DTEND:20201209T150000
TRANSP:TRANSPARENT
IMAGE;VALUE=URI;DISPLAY=;FMTTYPE=image/png:https://app.monacoplatform.
 com/uploads/wW/wWlfCh5SvG.jpg
STATUS:CONFIRMED
SUMMARY:Le Père Noël a disparu
DESCRIPTION:Wednesday 9 December 2020\, at 3 pm Théâtre Princesse Gr
 ace\n\n"Le Père Noël a disparu" ("Santa's Vanished")\, a show for a 
 young audience (ages 3 and upward) by Dominique Lefebvre\, with Artsc
 ène Compagnie\n\n https://www.principocket.com/en/event/14d5ab73b2c7c
 d18df86bafc95f30a80/le-pere-noel-a-disparu
LOCATION:12\, avenue d'Ostende
URL:https://www.principocket.com/event/14d5ab73b2c7cd18df86bafc95f30a80/570
DTSTAMP:20260421T000045Z
CREATED:20201125T145900Z
LAST-MODIFIED:20201125T145900Z
END:VEVENT
END:VCALENDAR
