BEGIN:VCALENDAR
VERSION:2.0
PRODID:-//Microsoft Corporation//Outlook 16.0 MIMEDIR//FR
CALSCALE:GREGORIAN
METHOD:PUBLISH
X-WR-TIMEZONE:Europe/Monaco
X-MS-OLK-FORCEINSPECTOROPEN:"TRUE"
BEGIN:VTIMEZONE
TZID:Europe/Monaco
BEGIN:STANDARD
DTSTART:20201025T010000
TZOFFSETTO:+0100
TZOFFSETFROM:+0200
RRULE:FREQ=YEARLY;BYMONTH=11;BYDAY=1SU
END:STANDARD
BEGIN:DAYLIGHT
DTSTART:20200329T010000
TZOFFSETTO:+0200
TZOFFSETFROM:+0100
RRULE:FREQ=YEARLY;BYMONTH=3;BYDAY=2SU
END:DAYLIGHT
END:VTIMEZONE
BEGIN:VEVENT
UID:568-c022961c48d5124f19473cbe03a4aa42-principocket.com\n
DTSTART:20201203T203000
DTEND:20201203T203000
TRANSP:TRANSPARENT
IMAGE;VALUE=URI;DISPLAY=;FMTTYPE=image/png:https://app.monacoplatform.
 com/uploads/AY/AYogDCvGCM.jpg
STATUS:CONFIRMED
SUMMARY:Red
DESCRIPTION:Thursday 3 December 2020\, at 8.30 pm Théâtre Princesse 
 Grace\n\n"Red" by John Logan\, with Niels Arestrup and Alexis Moncorg
 é\n\n https://www.principocket.com/en/event/c022961c48d5124f19473cbe0
 3a4aa42/red
LOCATION:12\, avenue d'Ostende
URL:https://www.principocket.com/event/c022961c48d5124f19473cbe03a4aa42/568
DTSTAMP:20260425T105428Z
CREATED:20201026T094347Z
LAST-MODIFIED:20201026T094347Z
END:VEVENT
END:VCALENDAR
