BEGIN:VCALENDAR
VERSION:2.0
PRODID:-//Microsoft Corporation//Outlook 16.0 MIMEDIR//FR
CALSCALE:GREGORIAN
METHOD:PUBLISH
X-WR-TIMEZONE:Europe/Monaco
X-MS-OLK-FORCEINSPECTOROPEN:"TRUE"
BEGIN:VTIMEZONE
TZID:Europe/Monaco
BEGIN:STANDARD
DTSTART:20201025T010000
TZOFFSETTO:+0100
TZOFFSETFROM:+0200
RRULE:FREQ=YEARLY;BYMONTH=11;BYDAY=1SU
END:STANDARD
BEGIN:DAYLIGHT
DTSTART:20200329T010000
TZOFFSETTO:+0200
TZOFFSETFROM:+0100
RRULE:FREQ=YEARLY;BYMONTH=3;BYDAY=2SU
END:DAYLIGHT
END:VTIMEZONE
BEGIN:VEVENT
UID:567-c1c808bdbc3d5846d9e6af84b51ae8c8-principocket.com\n
DTSTART:20201127T183000
DTEND:20201127T183000
TRANSP:TRANSPARENT
IMAGE;VALUE=URI;DISPLAY=;FMTTYPE=image/png:https://app.monacoplatform.
 com/uploads/Be/BeWye8nRK6.jpg
STATUS:CONFIRMED
SUMMARY:Una delle ultime sere di carnovale
DESCRIPTION:Friday 27 November 2020\, at 6:30 PM\, Grimaldi Forum Mona
 co - Salle Prince Pierre\n\n"Una delle ultime sere di carnovale" ("One
  of the Last Nights of Carnival") by Carlo Goldoni\, with Aymeline Ali
 x\, Erwin Aros\, Louis Berthélémy\, Clémence Boué\, Jean-Noël Bro
 uté\, Adeline Chagneau\, Marie Druc\, Charlotte Dumartheray\, M’ham
 ed El Menjra\, Stéphane Facco\, Juliette Léger\, Jeremy Lewin\, Clé
 mence Prioux\, Guillaume Ravoire and Daniel San Pedro\n\n https://www.
 principocket.com/en/event/c1c808bdbc3d5846d9e6af84b51ae8c8/una-delle-u
 ltime-sere-di-carnovale
LOCATION:10\, avenue Princesse Grace
URL:https://www.principocket.com/event/c1c808bdbc3d5846d9e6af84b51ae8c8/567
DTSTAMP:20260421T074333Z
CREATED:20201125T145859Z
LAST-MODIFIED:20201125T145859Z
END:VEVENT
END:VCALENDAR
