BEGIN:VCALENDAR
VERSION:2.0
PRODID:-//Microsoft Corporation//Outlook 16.0 MIMEDIR//FR
CALSCALE:GREGORIAN
METHOD:PUBLISH
X-WR-TIMEZONE:Europe/Monaco
X-MS-OLK-FORCEINSPECTOROPEN:"TRUE"
BEGIN:VTIMEZONE
TZID:Europe/Monaco
BEGIN:STANDARD
DTSTART:20211031T010000
TZOFFSETTO:+0100
TZOFFSETFROM:+0200
RRULE:FREQ=YEARLY;BYMONTH=11;BYDAY=1SU
END:STANDARD
BEGIN:DAYLIGHT
DTSTART:20210328T010000
TZOFFSETTO:+0200
TZOFFSETFROM:+0100
RRULE:FREQ=YEARLY;BYMONTH=3;BYDAY=2SU
END:DAYLIGHT
END:VTIMEZONE
BEGIN:VEVENT
UID:564-f8531a0d7ff02d9dc71cb51cdea757fe-principocket.com\n
DTSTART:20210314T000000
DTEND:20210315T235900
TRANSP:TRANSPARENT
IMAGE;VALUE=URI;DISPLAY=;FMTTYPE=image/png:https://app.monacoplatform.
 com/uploads/TK/TKXm6AP2I7.jpg
STATUS:CONFIRMED
SUMMARY:Premier League Football
DESCRIPTION:Sunday 14 March 2021\, Louis II Stadium\n\nFrench Premier 
 League Football Championship:  Monaco - Lille\n\n https://www.principo
 cket.com/en/event/f8531a0d7ff02d9dc71cb51cdea757fe/premier-league-foot
 ball
LOCATION:7\, avenue des Castelans
URL:https://www.principocket.com/event/f8531a0d7ff02d9dc71cb51cdea757fe/564
DTSTAMP:20260425T123409Z
CREATED:20210219T174118Z
LAST-MODIFIED:20210219T174118Z
X-MICROSOFT-CDO-ALLDAYEVENT:TRUE
END:VEVENT
END:VCALENDAR
