BEGIN:VCALENDAR
VERSION:2.0
PRODID:-//Microsoft Corporation//Outlook 16.0 MIMEDIR//FR
CALSCALE:GREGORIAN
METHOD:PUBLISH
X-WR-TIMEZONE:Europe/Monaco
X-MS-OLK-FORCEINSPECTOROPEN:"TRUE"
BEGIN:VTIMEZONE
TZID:Europe/Monaco
BEGIN:STANDARD
DTSTART:20251026T010000
TZOFFSETTO:+0100
TZOFFSETFROM:+0200
RRULE:FREQ=YEARLY;BYMONTH=11;BYDAY=1SU
END:STANDARD
BEGIN:DAYLIGHT
DTSTART:20250330T010000
TZOFFSETTO:+0200
TZOFFSETFROM:+0100
RRULE:FREQ=YEARLY;BYMONTH=3;BYDAY=2SU
END:DAYLIGHT
END:VTIMEZONE
BEGIN:VEVENT
UID:5357-c99df8004c9da5f4eca26d81238fea8b-principocket.com\n
DTSTART:20250703T000000
DTEND:20250706T235900
TRANSP:TRANSPARENT
IMAGE;VALUE=URI;DISPLAY=;FMTTYPE=image/png:https://app.monacoplatform.
 com/uploads/aw/aw7EXwNh3r.png
STATUS:CONFIRMED
SUMMARY:19th Jumping International de Monte-Carlo 2025
DESCRIPTION:Thursday\, July 3 to Saturday\, July 5\, 2025\n\nPort Herc
 ule will be transformed into an equestrian course for the Jumping Inte
 rnational de Monte-Carlo. For over 17 years\, this essential event has
  been bringing the world's top riders to the Principality\, nestled be
 low the ramparts of the Prince's Palace\n\n https://www.principocket.c
 om/en/event/c99df8004c9da5f4eca26d81238fea8b/19th-jumping-internationa
 l-de-monte-carlo-2025
LOCATION:Port Hercule\, Monaco
URL:https://www.principocket.com/event/c99df8004c9da5f4eca26d81238fea8
 b/5357
DTSTAMP:20260422T210437Z
CREATED:20250623T120846Z
LAST-MODIFIED:20250623T120846Z
X-MICROSOFT-CDO-ALLDAYEVENT:TRUE
END:VEVENT
END:VCALENDAR
