BEGIN:VCALENDAR
VERSION:2.0
PRODID:-//Microsoft Corporation//Outlook 16.0 MIMEDIR//FR
CALSCALE:GREGORIAN
METHOD:PUBLISH
X-WR-TIMEZONE:Europe/Monaco
X-MS-OLK-FORCEINSPECTOROPEN:"TRUE"
BEGIN:VTIMEZONE
TZID:Europe/Monaco
BEGIN:STANDARD
DTSTART:20201025T010000
TZOFFSETTO:+0100
TZOFFSETFROM:+0200
RRULE:FREQ=YEARLY;BYMONTH=11;BYDAY=1SU
END:STANDARD
BEGIN:DAYLIGHT
DTSTART:20200329T010000
TZOFFSETTO:+0200
TZOFFSETFROM:+0100
RRULE:FREQ=YEARLY;BYMONTH=3;BYDAY=2SU
END:DAYLIGHT
END:VTIMEZONE
BEGIN:VEVENT
UID:528-7e7c68f758fc9d43f5fbe50d7e508169-principocket.com\n
DTSTART:20201007T150000
DTEND:20201007T150000
TRANSP:TRANSPARENT
IMAGE;VALUE=URI;DISPLAY=;FMTTYPE=image/png:https://app.monacoplatform.
 com/uploads/-L/-LPU8Roex3.jpg
STATUS:CONFIRMED
SUMMARY:Concert for a Young Audience
DESCRIPTION:Wednesday 7 October 2020\, at 3 pm Auditorium Rainier III\
 n\nSymphonic concert by the Monte-Carlo Philharmonic Orchestra for a Y
 oung Audience\, with David Bismuth\, piano\, and André Peyrègne\, na
 rrator. On the programme: Beethoven's Childhood\n\n https://www.princi
 pocket.com/en/event/7e7c68f758fc9d43f5fbe50d7e508169/concert-for-a-you
 ng-audience
LOCATION:Boulevard Louis II
URL:https://www.principocket.com/event/7e7c68f758fc9d43f5fbe50d7e508169/528
DTSTAMP:20260421T013216Z
CREATED:20201005T102446Z
LAST-MODIFIED:20201005T102446Z
END:VEVENT
END:VCALENDAR
