BEGIN:VCALENDAR
VERSION:2.0
PRODID:-//Microsoft Corporation//Outlook 16.0 MIMEDIR//FR
CALSCALE:GREGORIAN
METHOD:PUBLISH
X-WR-TIMEZONE:Europe/Monaco
X-MS-OLK-FORCEINSPECTOROPEN:"TRUE"
BEGIN:VTIMEZONE
TZID:Europe/Monaco
BEGIN:STANDARD
DTSTART:20201025T010000
TZOFFSETTO:+0100
TZOFFSETFROM:+0200
RRULE:FREQ=YEARLY;BYMONTH=11;BYDAY=1SU
END:STANDARD
BEGIN:DAYLIGHT
DTSTART:20200329T010000
TZOFFSETTO:+0200
TZOFFSETFROM:+0100
RRULE:FREQ=YEARLY;BYMONTH=3;BYDAY=2SU
END:DAYLIGHT
END:VTIMEZONE
BEGIN:VEVENT
UID:526-8457b838643ee7ce9d7b570749c93e57-principocket.com\n
DTSTART:20201004T150000
DTEND:20201004T150000
TRANSP:TRANSPARENT
IMAGE;VALUE=URI;DISPLAY=;FMTTYPE=image/png:https://app.monacoplatform.
 com/uploads/tj/tjEs22dSfd.jpg
STATUS:CONFIRMED
SUMMARY:Great Season Series
DESCRIPTION:Sunday 4 October 2020\, at 3 pm Opéra de Monte-Carlo - Sa
 lle Garnier\n\nGreat Season Series: concert by the Monte-Carlo Philhar
 monic Orchestra conducted by Václav Luks\, with Fatma Said\, soprano 
 and David Lefèvre\, violin. On the programme: Wolfgang Amadeus Mozart
  and Josef Mysliveček\n\n https://www.principocket.com/en/event/8457b
 838643ee7ce9d7b570749c93e57/great-season-series
LOCATION:Place du Casino
URL:https://www.principocket.com/event/8457b838643ee7ce9d7b570749c93e57/526
DTSTAMP:20260420T222923Z
CREATED:20200918T161540Z
LAST-MODIFIED:20200918T161540Z
END:VEVENT
END:VCALENDAR
