BEGIN:VCALENDAR
VERSION:2.0
PRODID:-//Microsoft Corporation//Outlook 16.0 MIMEDIR//FR
CALSCALE:GREGORIAN
METHOD:PUBLISH
X-WR-TIMEZONE:Europe/Monaco
X-MS-OLK-FORCEINSPECTOROPEN:"TRUE"
BEGIN:VTIMEZONE
TZID:Europe/Monaco
BEGIN:STANDARD
DTSTART:20211031T010000
TZOFFSETTO:+0100
TZOFFSETFROM:+0200
RRULE:FREQ=YEARLY;BYMONTH=11;BYDAY=1SU
END:STANDARD
BEGIN:DAYLIGHT
DTSTART:20210328T010000
TZOFFSETTO:+0200
TZOFFSETFROM:+0100
RRULE:FREQ=YEARLY;BYMONTH=3;BYDAY=2SU
END:DAYLIGHT
END:VTIMEZONE
BEGIN:VEVENT
UID:523-075e58860f428294e43fc819279f54c8-principocket.com\n
DTSTART:20210224T200000
DTEND:20210224T200000
TRANSP:TRANSPARENT
IMAGE;VALUE=URI;DISPLAY=;FMTTYPE=image/png:https://app.monacoplatform.
 com/uploads/iM/iM6hIPhohb.jpg
STATUS:CONFIRMED
SUMMARY:Bryan Terfel
DESCRIPTION:Wednesday 24 February 2021\, at 8 pm Opéra de Monte-Carlo
  - Salle Garnier\n\nRecital by Bryn Terfel\, bass-baritone\, Hannah St
 one\, harp and Annabel Thwaite piano. Programme includes Franz Schuber
 t\, Robert Schumann\, Benjamin Britten\, Marcel Grandjany\, Claude Deb
 ussy and Roger Quilter. Organised by the Opéra de Monte-Carlo\n\n htt
 ps://www.principocket.com/en/event/075e58860f428294e43fc819279f54c8/br
 yan-terfel
LOCATION:Place du Casino
URL:https://www.principocket.com/event/075e58860f428294e43fc819279f54c8/523
DTSTAMP:20260420T154309Z
CREATED:20210125T093046Z
LAST-MODIFIED:20210125T093046Z
END:VEVENT
END:VCALENDAR
