BEGIN:VCALENDAR
VERSION:2.0
PRODID:-//Microsoft Corporation//Outlook 16.0 MIMEDIR//FR
CALSCALE:GREGORIAN
METHOD:PUBLISH
X-WR-TIMEZONE:Europe/Monaco
X-MS-OLK-FORCEINSPECTOROPEN:"TRUE"
BEGIN:VTIMEZONE
TZID:Europe/Monaco
BEGIN:STANDARD
DTSTART:20251026T010000
TZOFFSETTO:+0100
TZOFFSETFROM:+0200
RRULE:FREQ=YEARLY;BYMONTH=11;BYDAY=1SU
END:STANDARD
BEGIN:DAYLIGHT
DTSTART:20250330T010000
TZOFFSETTO:+0200
TZOFFSETFROM:+0100
RRULE:FREQ=YEARLY;BYMONTH=3;BYDAY=2SU
END:DAYLIGHT
END:VTIMEZONE
BEGIN:VEVENT
UID:4812-882a584e601316a0a17fd9dd6fdb2ea4-principocket.com\n
DTSTART:20250306T000000
DTEND:20250307T000000
TRANSP:TRANSPARENT
IMAGE;VALUE=URI;DISPLAY=;FMTTYPE=image/png:https://app.monacoplatform.
 com/uploads/Oe/OeU9LKGi0M.jpg
STATUS:CONFIRMED
SUMMARY:Theatre - "Art"
DESCRIPTION:Thursday 6 March 2025\, Théâtre Princesse Grace\n\nThree
  close friends of more than fifteen years' standing suddenly find the 
 foundations of their friendship shaken when Serge buys a whiteboard. \
 n\n“What are old friends? Friends who have known each other for a lo
 ng time? Sure\, but what else?\nWhen everything changes\, when all is 
 turned upside down\, when movement is the only constant in our lives\,
  what does an old friend look like?\nBecause when all's said and done\
 , can yesterday's friends still be friends today? What's a friend of 3
 0 years? Perhaps someone perfectly unknown to us.” François Morel\n
 \n https://www.principocket.com/en/event/882a584e601316a0a17fd9dd6fdb2
 ea4/theatre-art
LOCATION:12\, avenue d'Ostende
URL:https://www.principocket.com/event/882a584e601316a0a17fd9dd6fdb2ea
 4/4812
DTSTAMP:20260420T154314Z
CREATED:20250305T131338Z
LAST-MODIFIED:20250305T131338Z
X-MICROSOFT-CDO-ALLDAYEVENT:TRUE
END:VEVENT
END:VCALENDAR
