BEGIN:VCALENDAR
VERSION:2.0
PRODID:-//Microsoft Corporation//Outlook 16.0 MIMEDIR//FR
CALSCALE:GREGORIAN
METHOD:PUBLISH
X-WR-TIMEZONE:Europe/Monaco
X-MS-OLK-FORCEINSPECTOROPEN:"TRUE"
BEGIN:VTIMEZONE
TZID:Europe/Monaco
BEGIN:STANDARD
DTSTART:20251026T010000
TZOFFSETTO:+0100
TZOFFSETFROM:+0200
RRULE:FREQ=YEARLY;BYMONTH=11;BYDAY=1SU
END:STANDARD
BEGIN:DAYLIGHT
DTSTART:20250330T010000
TZOFFSETTO:+0200
TZOFFSETFROM:+0100
RRULE:FREQ=YEARLY;BYMONTH=3;BYDAY=2SU
END:DAYLIGHT
END:VTIMEZONE
BEGIN:VEVENT
UID:4806-8da572710da215734503290cf555152c-principocket.com\n
DTSTART:20250117T200000
DTEND:20250117T200000
TRANSP:TRANSPARENT
IMAGE;VALUE=URI;DISPLAY=;FMTTYPE=image/png:https://app.monacoplatform.
 com/uploads/5C/5CwYyJ7nJ5.jpg
STATUS:CONFIRMED
SUMMARY:Theatre - "La note"
DESCRIPTION:Friday 17 January 2025\, at 8 pm\, Grimaldi Forum Monaco\n
 \nWhat happens when someone leaves without so much as a goodbye?\nThat
 's what Julien did to Maud\, and she cannot forgive him for it. He is 
 a famous psychoanalyst and she a world renowned pianist. Together\, th
 ey are going to have to take stock of their lives and their relationsh
 ip. Amid anger and laughter\, they take turns to confess their innermo
 st secrets in one final attempt to find meaning in life. Tonight\, the
 y will either go their separate ways\, or fall in love all over again.
  Tonight\, they will remake their destiny.\n\n https://www.principocke
 t.com/en/event/8da572710da215734503290cf555152c/theatre-la-note
LOCATION:10\, avenue Princesse Grace
URL:https://www.principocket.com/event/8da572710da215734503290cf555152
 c/4806
DTSTAMP:20260422T160716Z
CREATED:20250109T140930Z
LAST-MODIFIED:20250109T140930Z
END:VEVENT
END:VCALENDAR
